BEGIN:VCALENDAR
VERSION:2.0
PRODID:-//Woodland Weekender - ECPv6.15.20//NONSGML v1.0//EN
CALSCALE:GREGORIAN
METHOD:PUBLISH
X-WR-CALNAME:Woodland Weekender
X-ORIGINAL-URL:https://www.woodlandweekender.com
X-WR-CALDESC:Events for Woodland Weekender
REFRESH-INTERVAL;VALUE=DURATION:PT1H
X-Robots-Tag:noindex
X-PUBLISHED-TTL:PT1H
BEGIN:VTIMEZONE
TZID:America/Los_Angeles
BEGIN:DAYLIGHT
TZOFFSETFROM:-0800
TZOFFSETTO:-0700
TZNAME:PDT
DTSTART:20250309T100000
END:DAYLIGHT
BEGIN:STANDARD
TZOFFSETFROM:-0700
TZOFFSETTO:-0800
TZNAME:PST
DTSTART:20251102T090000
END:STANDARD
BEGIN:DAYLIGHT
TZOFFSETFROM:-0800
TZOFFSETTO:-0700
TZNAME:PDT
DTSTART:20260308T100000
END:DAYLIGHT
BEGIN:STANDARD
TZOFFSETFROM:-0700
TZOFFSETTO:-0800
TZNAME:PST
DTSTART:20261101T090000
END:STANDARD
BEGIN:DAYLIGHT
TZOFFSETFROM:-0800
TZOFFSETTO:-0700
TZNAME:PDT
DTSTART:20270314T100000
END:DAYLIGHT
BEGIN:STANDARD
TZOFFSETFROM:-0700
TZOFFSETTO:-0800
TZNAME:PST
DTSTART:20271107T090000
END:STANDARD
END:VTIMEZONE
BEGIN:VEVENT
DTSTART;TZID=America/Los_Angeles:20260407T120000
DTEND;TZID=America/Los_Angeles:20260407T130000
DTSTAMP:20260419T084150
CREATED:20260405T130156Z
LAST-MODIFIED:20260414T031712Z
UID:10000006-1775563200-1775566800@www.woodlandweekender.com
SUMMARY:Woodland Chamber Luncheon!
DESCRIPTION:Join us for our next Chamber Luncheon and hear from the Port of Woodland!\nWe’re excited to welcome representatives from the Port as they share updates on projects\, growth\, and what’s ahead for our community. It’s a great opportunity to learn more about the important role the Port plays in supporting local business and economic development.\n✨ Connect with fellow Chamber members\n✨ Hear community updates\n✨ Enjoy great conversation over lunch\nCome network\, stay informed\, and be part of what’s happening in our community. We hope to see you there!\nhttps://www.facebook.com/events/2074012980215252/
URL:https://www.woodlandweekender.com/event/woodland-chamber-luncheon/
LOCATION:Oak Tree Restaurant & Lounge
CATEGORIES:Classes & Workshops
ATTACH;FMTTYPE=image/jpeg:https://www.woodlandweekender.com/wp-content/uploads/2026/04/486808068_9362184683876757_8808401350333395597_n.jpg
END:VEVENT
END:VCALENDAR