BEGIN:VCALENDAR
VERSION:2.0
PRODID:-//Woodland Weekender - ECPv6.15.20//NONSGML v1.0//EN
CALSCALE:GREGORIAN
METHOD:PUBLISH
X-WR-CALNAME:Woodland Weekender
X-ORIGINAL-URL:https://www.woodlandweekender.com
X-WR-CALDESC:Events for Woodland Weekender
REFRESH-INTERVAL;VALUE=DURATION:PT1H
X-Robots-Tag:noindex
X-PUBLISHED-TTL:PT1H
BEGIN:VTIMEZONE
TZID:America/Los_Angeles
BEGIN:DAYLIGHT
TZOFFSETFROM:-0800
TZOFFSETTO:-0700
TZNAME:PDT
DTSTART:20250309T100000
END:DAYLIGHT
BEGIN:STANDARD
TZOFFSETFROM:-0700
TZOFFSETTO:-0800
TZNAME:PST
DTSTART:20251102T090000
END:STANDARD
BEGIN:DAYLIGHT
TZOFFSETFROM:-0800
TZOFFSETTO:-0700
TZNAME:PDT
DTSTART:20260308T100000
END:DAYLIGHT
BEGIN:STANDARD
TZOFFSETFROM:-0700
TZOFFSETTO:-0800
TZNAME:PST
DTSTART:20261101T090000
END:STANDARD
BEGIN:DAYLIGHT
TZOFFSETFROM:-0800
TZOFFSETTO:-0700
TZNAME:PDT
DTSTART:20270314T100000
END:DAYLIGHT
BEGIN:STANDARD
TZOFFSETFROM:-0700
TZOFFSETTO:-0800
TZNAME:PST
DTSTART:20271107T090000
END:STANDARD
END:VTIMEZONE
BEGIN:VEVENT
DTSTART;TZID=America/Los_Angeles:20260424T080000
DTEND;TZID=America/Los_Angeles:20260424T170000
DTSTAMP:20260424T014810
CREATED:20260422T103947Z
LAST-MODIFIED:20260422T103947Z
UID:10000064-1777017600-1777050000@www.woodlandweekender.com
SUMMARY:Love Street Playhouse Presents
DESCRIPTION:The hysterical comic farce\, Love\, Sex & the IRS. Live theatre since 2007. 5 star Google rated:
URL:https://www.woodlandweekender.com/event/love-street-playhouse-presents/2026-04-24/1/
ATTACH;FMTTYPE=image/jpeg:https://www.woodlandweekender.com/wp-content/uploads/2026/04/inbound341465544312919346-scaled.jpg
END:VEVENT
BEGIN:VEVENT
DTSTART;TZID=America/Los_Angeles:20260424T183000
DTEND;TZID=America/Los_Angeles:20260424T220000
DTSTAMP:20260424T014810
CREATED:20260422T103841Z
LAST-MODIFIED:20260422T103841Z
UID:10000066-1777055400-1777068000@www.woodlandweekender.com
SUMMARY:Friday Night Cruising
DESCRIPTION:Every Friday cruise old town woodland!! Show up have fun stop in to local businesses and see cool cars!!
URL:https://www.woodlandweekender.com/event/friday-night-cruising/2026-04-24/
CATEGORIES:Kids & Family
ATTACH;FMTTYPE=image/jpeg:https://www.woodlandweekender.com/wp-content/uploads/2026/04/IMG_1558.jpeg
END:VEVENT
BEGIN:VEVENT
DTSTART;TZID=America/Los_Angeles:20260424T193000
DTEND;TZID=America/Los_Angeles:20260510T140000
DTSTAMP:20260424T014810
CREATED:20260422T103947Z
LAST-MODIFIED:20260422T103947Z
UID:10000065-1777059000-1778421600@www.woodlandweekender.com
SUMMARY:Love Street Playhouse Presents
DESCRIPTION:The hysterical comic farce\, Love\, Sex & the IRS. Live theatre since 2007. 5 star Google rated:
URL:https://www.woodlandweekender.com/event/love-street-playhouse-presents/2026-04-24/2/
ATTACH;FMTTYPE=image/jpeg:https://www.woodlandweekender.com/wp-content/uploads/2026/04/inbound341465544312919346-scaled.jpg
END:VEVENT
END:VCALENDAR