BEGIN:VCALENDAR
VERSION:2.0
PRODID:-//Woodland Weekender - ECPv6.15.20//NONSGML v1.0//EN
CALSCALE:GREGORIAN
METHOD:PUBLISH
X-ORIGINAL-URL:https://www.woodlandweekender.com
X-WR-CALDESC:Events for Woodland Weekender
REFRESH-INTERVAL;VALUE=DURATION:PT1H
X-Robots-Tag:noindex
X-PUBLISHED-TTL:PT1H
BEGIN:VTIMEZONE
TZID:America/Los_Angeles
BEGIN:DAYLIGHT
TZOFFSETFROM:-0800
TZOFFSETTO:-0700
TZNAME:PDT
DTSTART:20250309T100000
END:DAYLIGHT
BEGIN:STANDARD
TZOFFSETFROM:-0700
TZOFFSETTO:-0800
TZNAME:PST
DTSTART:20251102T090000
END:STANDARD
BEGIN:DAYLIGHT
TZOFFSETFROM:-0800
TZOFFSETTO:-0700
TZNAME:PDT
DTSTART:20260308T100000
END:DAYLIGHT
BEGIN:STANDARD
TZOFFSETFROM:-0700
TZOFFSETTO:-0800
TZNAME:PST
DTSTART:20261101T090000
END:STANDARD
BEGIN:DAYLIGHT
TZOFFSETFROM:-0800
TZOFFSETTO:-0700
TZNAME:PDT
DTSTART:20270314T100000
END:DAYLIGHT
BEGIN:STANDARD
TZOFFSETFROM:-0700
TZOFFSETTO:-0800
TZNAME:PST
DTSTART:20271107T090000
END:STANDARD
END:VTIMEZONE
BEGIN:VEVENT
DTSTART;TZID=America/Los_Angeles:20260425T130000
DTEND;TZID=America/Los_Angeles:20260425T160000
DTSTAMP:20260419T114233
CREATED:20260419T150156Z
LAST-MODIFIED:20260419T150227Z
UID:10000061-1777122000-1777132800@www.woodlandweekender.com
SUMMARY:Cedar Creek Grist Mill Clean up
DESCRIPTION:The Grist Mill is one of Woodlands most iconic locations – and its 100% volunteer run.\nAnd It’s time for spring cleaning at the Mill! Please join us for a work day cleaning trails\, removing invasive species\, and maybe building a bridge!\nFeel free to bring a garden rake along with your gloves when you come to pitch in!
URL:https://www.woodlandweekender.com/event/cedar-creek-grist-mill-clean-up/
CATEGORIES:Kids & Family
ATTACH;FMTTYPE=image/jpeg:https://www.woodlandweekender.com/wp-content/uploads/2026/04/grist-mill.jpg
END:VEVENT
BEGIN:VEVENT
DTSTART;TZID=America/Los_Angeles:20260425T160000
DTEND;TZID=America/Los_Angeles:20260425T190000
DTSTAMP:20260419T114233
CREATED:20260419T145648Z
LAST-MODIFIED:20260419T150059Z
UID:10000060-1777132800-1777143600@www.woodlandweekender.com
SUMMARY:Live Music at Matranga Vineyards
DESCRIPTION:Mantranga Vineyards Tasting Room is bringing back Tom and Ron TMD Live at the tasting room!\nEnjoy great wine\, live music and charcuterie boards in a relaxing atmosphere. A fun night you won’t want to miss
URL:https://www.woodlandweekender.com/event/live-music-at-matranga-vineyards/
CATEGORIES:Food & Drink
ATTACH;FMTTYPE=image/jpeg:https://www.woodlandweekender.com/wp-content/uploads/2026/04/tmd.jpg
END:VEVENT
END:VCALENDAR