BEGIN:VCALENDAR
VERSION:2.0
PRODID:-//Woodland Weekender - ECPv6.15.20//NONSGML v1.0//EN
CALSCALE:GREGORIAN
METHOD:PUBLISH
X-ORIGINAL-URL:https://www.woodlandweekender.com
X-WR-CALDESC:Events for Woodland Weekender
REFRESH-INTERVAL;VALUE=DURATION:PT1H
X-Robots-Tag:noindex
X-PUBLISHED-TTL:PT1H
BEGIN:VTIMEZONE
TZID:UTC
BEGIN:STANDARD
TZOFFSETFROM:+0000
TZOFFSETTO:+0000
TZNAME:UTC
DTSTART:20250101T000000
END:STANDARD
END:VTIMEZONE
BEGIN:VEVENT
DTSTART;TZID=UTC:20260429T000000
DTEND;TZID=UTC:20260429T030000
DTSTAMP:20260419T084414
CREATED:20260417T221227Z
LAST-MODIFIED:20260419T144158Z
UID:10000054-1777420800-1777431600@www.woodlandweekender.com
SUMMARY:Nine Wine & Dine at Lewis River Golf
DESCRIPTION:Join us at the Golf Course for April’s Nine Wine and Dine Event!\n9 holes of golf with cart\n3 wine tastings\nGlass of wine\nSnack box to fuel your game\nBuffet dinner featuring strawberry salad\, focaccia bread\, chicken pesto pasta & dessert\n5:00pm Registration and wine tasting\n5:30pm Shotgun start\nDinner after golf\nDon’t miss out! Register now with the link above and tee off in style!\nhttps://www.facebook.com/events/26578721678379905/
URL:https://www.woodlandweekender.com/event/nine-wine-dine-at-lewis-river-golf-3/
LOCATION:3209 Old Lewis River Rd\, 1501 W St\, Vancouver\, WA\, United States
CATEGORIES:Food & Drink
ATTACH;FMTTYPE=image/jpeg:https://www.woodlandweekender.com/wp-content/uploads/2026/04/lewis-river-golg.jpg
GEO:45.632345;-122.647445
X-APPLE-STRUCTURED-LOCATION;VALUE=URI;X-ADDRESS=3209 Old Lewis River Rd 1501 W St Vancouver WA United States;X-APPLE-RADIUS=500;X-TITLE=1501 W St:geo:-122.647445,45.632345
END:VEVENT
END:VCALENDAR