BEGIN:VCALENDAR
VERSION:2.0
PRODID:-//Woodland Weekender - ECPv6.15.20//NONSGML v1.0//EN
CALSCALE:GREGORIAN
METHOD:PUBLISH
X-ORIGINAL-URL:https://www.woodlandweekender.com
X-WR-CALDESC:Events for Woodland Weekender
REFRESH-INTERVAL;VALUE=DURATION:PT1H
X-Robots-Tag:noindex
X-PUBLISHED-TTL:PT1H
BEGIN:VTIMEZONE
TZID:UTC
BEGIN:STANDARD
TZOFFSETFROM:+0000
TZOFFSETTO:+0000
TZNAME:UTC
DTSTART:20250101T000000
END:STANDARD
END:VTIMEZONE
BEGIN:VEVENT
DTSTART;TZID=UTC:20260513T170000
DTEND;TZID=UTC:20260513T180000
DTSTAMP:20260421T010932
CREATED:20260417T221227Z
LAST-MODIFIED:20260417T224553Z
UID:10000057-1778691600-1778695200@www.woodlandweekender.com
SUMMARY:Spice of Life: Growing Herbs
DESCRIPTION:WSU Master Gardener Terrie Phillips will show you how to plant\, grow and harvest the most popular herbs that you can enjoy fresh from your own garden. What to do with herbs after harvest will be discussed such as in preserving\, storage and easy usage of these flavorful plants.\nhttps://www.facebook.com/events/938588358540035/
URL:https://www.woodlandweekender.com/event/spice-of-life-growing-herbs-3/
LOCATION:Woodland Community Library
END:VEVENT
END:VCALENDAR