BEGIN:VCALENDAR
VERSION:2.0
PRODID:-//Woodland Weekender - ECPv6.15.20//NONSGML v1.0//EN
CALSCALE:GREGORIAN
METHOD:PUBLISH
X-ORIGINAL-URL:https://www.woodlandweekender.com
X-WR-CALDESC:Events for Woodland Weekender
REFRESH-INTERVAL;VALUE=DURATION:PT1H
X-Robots-Tag:noindex
X-PUBLISHED-TTL:PT1H
BEGIN:VTIMEZONE
TZID:America/Los_Angeles
BEGIN:DAYLIGHT
TZOFFSETFROM:-0800
TZOFFSETTO:-0700
TZNAME:PDT
DTSTART:20250309T100000
END:DAYLIGHT
BEGIN:STANDARD
TZOFFSETFROM:-0700
TZOFFSETTO:-0800
TZNAME:PST
DTSTART:20251102T090000
END:STANDARD
BEGIN:DAYLIGHT
TZOFFSETFROM:-0800
TZOFFSETTO:-0700
TZNAME:PDT
DTSTART:20260308T100000
END:DAYLIGHT
BEGIN:STANDARD
TZOFFSETFROM:-0700
TZOFFSETTO:-0800
TZNAME:PST
DTSTART:20261101T090000
END:STANDARD
BEGIN:DAYLIGHT
TZOFFSETFROM:-0800
TZOFFSETTO:-0700
TZNAME:PDT
DTSTART:20270314T100000
END:DAYLIGHT
BEGIN:STANDARD
TZOFFSETFROM:-0700
TZOFFSETTO:-0800
TZNAME:PST
DTSTART:20271107T090000
END:STANDARD
END:VTIMEZONE
BEGIN:VEVENT
DTSTART;TZID=America/Los_Angeles:20260418T130000
DTEND;TZID=America/Los_Angeles:20260418T140000
DTSTAMP:20260419T103553
CREATED:20260416T211022Z
LAST-MODIFIED:20260418T121007Z
UID:10000014-1776517200-1776520800@www.woodlandweekender.com
SUMMARY:McElrath Classical Cabaret Duo
DESCRIPTION:The musical duo of K. J. and Athena McElrath perform a classic cabaret act of piano and singing reminiscent of what you might have heard from the 1920s to the 1960s in New York’s swankiest nightspots. With a popular mix of songs from the heyday of Broadway\, Hollywood\, and Tin Pan Alley\, they bring warmth\, humor\, and authenticity in style\, entertaining audiences since 1996.\nhttps://www.facebook.com/events/2556695981415598/
URL:https://www.woodlandweekender.com/event/mcelrath-classical-cabaret-duo/
LOCATION:Woodland Community Library
CATEGORIES:Kids & Family
END:VEVENT
BEGIN:VEVENT
DTSTART;TZID=America/Los_Angeles:20260418T090000
DTEND;TZID=America/Los_Angeles:20260418T120000
DTSTAMP:20260419T103553
CREATED:20260405T130156Z
LAST-MODIFIED:20260417T223131Z
UID:10000009-1776502800-1776513600@www.woodlandweekender.com
SUMMARY:⚾ Lewis River Little League Opening Ceremonies Jamboree 🥎
DESCRIPTION:⚾ Lewis River Little League Opening Ceremonies Jamboree 🥎\nJoin us as we kick off the 2026 Lewis River Little League season with a fun-filled Opening Ceremonies Jamboree celebrating our athletes\, families\, and community!\nThe morning begins as our players arrive in their team uniforms and gather with their teammates to prepare for the ceremony.\nEvent Schedule\n🕘 9:00 AM – Athletes arrive and line up with their teams on the T-Ball Field\n🎉 9:30 AM – Opening Ceremonies Parade on the Coach Pitch Field\nDuring the ceremony\, each team will be introduced as they parade onto the field in front of their families\, friends\, and the LRLL community to officially open the season.\nAfter the ceremony\, the celebration continues with a community jamboree featuring:\n⚾ Mini LRLL baseball and softball games\n🍔 Food trucks & tasty treats\n🛍 Local vendors\n🧢 Lewis River Little League gear\n🍿 Our LRLL Snack Shack\n🎪 Carnival-style games\n🏃 Obstacle Course Bounce House\n…and more fun throughout the morning!\nBring the whole family and come celebrate the start of another great Little League season. We can’t wait to see our athletes take the field and our community come together.\nLet’s play ball\, Lewis River! ⚾💚🥎🎉\nhttps://www.facebook.com/events/912523821635624/
URL:https://www.woodlandweekender.com/event/%e2%9a%be-lewis-river-little-league-opening-ceremonies-jamboree-%f0%9f%a5%8e/
LOCATION:7055 Green Mountain Rd.\, Woodland\, WA\, United States
CATEGORIES:Kids & Family
ATTACH;FMTTYPE=image/jpeg:https://www.woodlandweekender.com/wp-content/uploads/2026/04/Jamboreee.jpg
GEO:45.937521;-122.686548
END:VEVENT
BEGIN:VEVENT
DTSTART;TZID=America/Los_Angeles:20260409T160000
DTEND;TZID=America/Los_Angeles:20260409T170000
DTSTAMP:20260419T103553
CREATED:20260406T205147Z
LAST-MODIFIED:20260414T031701Z
UID:10000012-1775750400-1775754000@www.woodlandweekender.com
SUMMARY:Kids Book Group: Online
DESCRIPTION:Are you ready for chapter books? Grab an adult to join you and come ready to discuss\, have fun\, and make new friends.\nFor ages 5–9\nRegister to receive the online link. If you have more than one child you want to register\, please add both names and ages in the same registration\n\nParticipants who register more than 10 days before the book discussion will have a copy of the book automatically sent to their chosen branch to be picked up. You will get a phone call when it is ready for you
URL:https://www.woodlandweekender.com/event/kids-book-group-online/
CATEGORIES:Kids & Family
ATTACH;FMTTYPE=image/jpeg:https://www.woodlandweekender.com/wp-content/uploads/2026/04/605673210_1278238357666631_4287679918190044271_n.jpg
END:VEVENT
BEGIN:VEVENT
DTSTART;TZID=America/Los_Angeles:20260405T091500
DTEND;TZID=America/Los_Angeles:20260405T121500
DTSTAMP:20260419T103553
CREATED:20260405T130156Z
LAST-MODIFIED:20260405T144814Z
UID:10000004-1775380500-1775391300@www.woodlandweekender.com
SUMMARY:Annual Easter Egg Hunt
DESCRIPTION:We are hosting two identical sessions to make sure everyone has a chance to hunt! Please arrive 15 minutes early to check in and find your starting zone.\nSession 1: The Morning Leap\n09:15 AM | Tiny Tots Hunt (Ages 1–5)\n09:15 AM | Big Kids Quest (Ages 6–12)\nSession 2: The Afternoon Hop\n01:15 PM | Tiny Tots Hunt (Ages 1–5)\n01:15 PM | Big Kids Quest (Ages 6–12)
URL:https://www.woodlandweekender.com/event/annual-easter-egg-hunt/
LOCATION:3209 Old Lewis River Rd\, 1501 W St\, Vancouver\, WA\, United States
CATEGORIES:Kids & Family
GEO:45.632345;-122.647445
X-APPLE-STRUCTURED-LOCATION;VALUE=URI;X-ADDRESS=3209 Old Lewis River Rd 1501 W St Vancouver WA United States;X-APPLE-RADIUS=500;X-TITLE=1501 W St:geo:-122.647445,45.632345
END:VEVENT
END:VCALENDAR