BEGIN:VCALENDAR
VERSION:2.0
PRODID:-//Woodland Weekender - ECPv6.15.20//NONSGML v1.0//EN
CALSCALE:GREGORIAN
METHOD:PUBLISH
X-ORIGINAL-URL:https://www.woodlandweekender.com
X-WR-CALDESC:Events for Woodland Weekender
REFRESH-INTERVAL;VALUE=DURATION:PT1H
X-Robots-Tag:noindex
X-PUBLISHED-TTL:PT1H
BEGIN:VTIMEZONE
TZID:America/Los_Angeles
BEGIN:DAYLIGHT
TZOFFSETFROM:-0800
TZOFFSETTO:-0700
TZNAME:PDT
DTSTART:20270314T100000
END:DAYLIGHT
BEGIN:STANDARD
TZOFFSETFROM:-0700
TZOFFSETTO:-0800
TZNAME:PST
DTSTART:20271107T090000
END:STANDARD
BEGIN:DAYLIGHT
TZOFFSETFROM:-0800
TZOFFSETTO:-0700
TZNAME:PDT
DTSTART:20280312T100000
END:DAYLIGHT
BEGIN:STANDARD
TZOFFSETFROM:-0700
TZOFFSETTO:-0800
TZNAME:PST
DTSTART:20281105T090000
END:STANDARD
BEGIN:DAYLIGHT
TZOFFSETFROM:-0800
TZOFFSETTO:-0700
TZNAME:PDT
DTSTART:20290311T100000
END:DAYLIGHT
BEGIN:STANDARD
TZOFFSETFROM:-0700
TZOFFSETTO:-0800
TZNAME:PST
DTSTART:20291104T090000
END:STANDARD
BEGIN:DAYLIGHT
TZOFFSETFROM:-0800
TZOFFSETTO:-0700
TZNAME:PDT
DTSTART:20300310T100000
END:DAYLIGHT
BEGIN:STANDARD
TZOFFSETFROM:-0700
TZOFFSETTO:-0800
TZNAME:PST
DTSTART:20301103T090000
END:STANDARD
END:VTIMEZONE
BEGIN:VEVENT
DTSTART;TZID=America/Los_Angeles:20281124T183000
DTEND;TZID=America/Los_Angeles:20281124T220000
DTSTAMP:20260423T030058
CREATED:20260422T103841Z
LAST-MODIFIED:20260422T103841Z
UID:10000201-1858703400-1858716000@www.woodlandweekender.com
SUMMARY:Friday Night Cruising
DESCRIPTION:Every Friday cruise old town woodland!! Show up have fun stop in to local businesses and see cool cars!!
URL:https://www.woodlandweekender.com/event/friday-night-cruising/2028-11-24/
CATEGORIES:Kids & Family
ATTACH;FMTTYPE=image/jpeg:https://www.woodlandweekender.com/wp-content/uploads/2026/04/IMG_1558.jpeg
END:VEVENT
BEGIN:VEVENT
DTSTART;TZID=America/Los_Angeles:20281201T183000
DTEND;TZID=America/Los_Angeles:20281201T220000
DTSTAMP:20260423T030058
CREATED:20260422T103841Z
LAST-MODIFIED:20260422T103841Z
UID:10000202-1859308200-1859320800@www.woodlandweekender.com
SUMMARY:Friday Night Cruising
DESCRIPTION:Every Friday cruise old town woodland!! Show up have fun stop in to local businesses and see cool cars!!
URL:https://www.woodlandweekender.com/event/friday-night-cruising/2028-12-01/
CATEGORIES:Kids & Family
ATTACH;FMTTYPE=image/jpeg:https://www.woodlandweekender.com/wp-content/uploads/2026/04/IMG_1558.jpeg
END:VEVENT
BEGIN:VEVENT
DTSTART;TZID=America/Los_Angeles:20281208T183000
DTEND;TZID=America/Los_Angeles:20281208T220000
DTSTAMP:20260423T030058
CREATED:20260422T103841Z
LAST-MODIFIED:20260422T103841Z
UID:10000203-1859913000-1859925600@www.woodlandweekender.com
SUMMARY:Friday Night Cruising
DESCRIPTION:Every Friday cruise old town woodland!! Show up have fun stop in to local businesses and see cool cars!!
URL:https://www.woodlandweekender.com/event/friday-night-cruising/2028-12-08/
CATEGORIES:Kids & Family
ATTACH;FMTTYPE=image/jpeg:https://www.woodlandweekender.com/wp-content/uploads/2026/04/IMG_1558.jpeg
END:VEVENT
BEGIN:VEVENT
DTSTART;TZID=America/Los_Angeles:20281215T183000
DTEND;TZID=America/Los_Angeles:20281215T220000
DTSTAMP:20260423T030058
CREATED:20260422T103841Z
LAST-MODIFIED:20260422T103841Z
UID:10000204-1860517800-1860530400@www.woodlandweekender.com
SUMMARY:Friday Night Cruising
DESCRIPTION:Every Friday cruise old town woodland!! Show up have fun stop in to local businesses and see cool cars!!
URL:https://www.woodlandweekender.com/event/friday-night-cruising/2028-12-15/
CATEGORIES:Kids & Family
ATTACH;FMTTYPE=image/jpeg:https://www.woodlandweekender.com/wp-content/uploads/2026/04/IMG_1558.jpeg
END:VEVENT
BEGIN:VEVENT
DTSTART;TZID=America/Los_Angeles:20281222T183000
DTEND;TZID=America/Los_Angeles:20281222T220000
DTSTAMP:20260423T030058
CREATED:20260422T103841Z
LAST-MODIFIED:20260422T103841Z
UID:10000205-1861122600-1861135200@www.woodlandweekender.com
SUMMARY:Friday Night Cruising
DESCRIPTION:Every Friday cruise old town woodland!! Show up have fun stop in to local businesses and see cool cars!!
URL:https://www.woodlandweekender.com/event/friday-night-cruising/2028-12-22/
CATEGORIES:Kids & Family
ATTACH;FMTTYPE=image/jpeg:https://www.woodlandweekender.com/wp-content/uploads/2026/04/IMG_1558.jpeg
END:VEVENT
BEGIN:VEVENT
DTSTART;TZID=America/Los_Angeles:20281229T183000
DTEND;TZID=America/Los_Angeles:20281229T220000
DTSTAMP:20260423T030058
CREATED:20260422T103841Z
LAST-MODIFIED:20260422T103841Z
UID:10000206-1861727400-1861740000@www.woodlandweekender.com
SUMMARY:Friday Night Cruising
DESCRIPTION:Every Friday cruise old town woodland!! Show up have fun stop in to local businesses and see cool cars!!
URL:https://www.woodlandweekender.com/event/friday-night-cruising/2028-12-29/
CATEGORIES:Kids & Family
ATTACH;FMTTYPE=image/jpeg:https://www.woodlandweekender.com/wp-content/uploads/2026/04/IMG_1558.jpeg
END:VEVENT
BEGIN:VEVENT
DTSTART;TZID=America/Los_Angeles:20290105T183000
DTEND;TZID=America/Los_Angeles:20290105T220000
DTSTAMP:20260423T030058
CREATED:20260422T103841Z
LAST-MODIFIED:20260422T103841Z
UID:10000207-1862332200-1862344800@www.woodlandweekender.com
SUMMARY:Friday Night Cruising
DESCRIPTION:Every Friday cruise old town woodland!! Show up have fun stop in to local businesses and see cool cars!!
URL:https://www.woodlandweekender.com/event/friday-night-cruising/2029-01-05/
CATEGORIES:Kids & Family
ATTACH;FMTTYPE=image/jpeg:https://www.woodlandweekender.com/wp-content/uploads/2026/04/IMG_1558.jpeg
END:VEVENT
BEGIN:VEVENT
DTSTART;TZID=America/Los_Angeles:20290112T183000
DTEND;TZID=America/Los_Angeles:20290112T220000
DTSTAMP:20260423T030059
CREATED:20260422T103841Z
LAST-MODIFIED:20260422T103841Z
UID:10000208-1862937000-1862949600@www.woodlandweekender.com
SUMMARY:Friday Night Cruising
DESCRIPTION:Every Friday cruise old town woodland!! Show up have fun stop in to local businesses and see cool cars!!
URL:https://www.woodlandweekender.com/event/friday-night-cruising/2029-01-12/
CATEGORIES:Kids & Family
ATTACH;FMTTYPE=image/jpeg:https://www.woodlandweekender.com/wp-content/uploads/2026/04/IMG_1558.jpeg
END:VEVENT
BEGIN:VEVENT
DTSTART;TZID=America/Los_Angeles:20290119T183000
DTEND;TZID=America/Los_Angeles:20290119T220000
DTSTAMP:20260423T030059
CREATED:20260422T103841Z
LAST-MODIFIED:20260422T103841Z
UID:10000209-1863541800-1863554400@www.woodlandweekender.com
SUMMARY:Friday Night Cruising
DESCRIPTION:Every Friday cruise old town woodland!! Show up have fun stop in to local businesses and see cool cars!!
URL:https://www.woodlandweekender.com/event/friday-night-cruising/2029-01-19/
CATEGORIES:Kids & Family
ATTACH;FMTTYPE=image/jpeg:https://www.woodlandweekender.com/wp-content/uploads/2026/04/IMG_1558.jpeg
END:VEVENT
BEGIN:VEVENT
DTSTART;TZID=America/Los_Angeles:20290126T183000
DTEND;TZID=America/Los_Angeles:20290126T220000
DTSTAMP:20260423T030059
CREATED:20260422T103841Z
LAST-MODIFIED:20260422T103841Z
UID:10000210-1864146600-1864159200@www.woodlandweekender.com
SUMMARY:Friday Night Cruising
DESCRIPTION:Every Friday cruise old town woodland!! Show up have fun stop in to local businesses and see cool cars!!
URL:https://www.woodlandweekender.com/event/friday-night-cruising/2029-01-26/
CATEGORIES:Kids & Family
ATTACH;FMTTYPE=image/jpeg:https://www.woodlandweekender.com/wp-content/uploads/2026/04/IMG_1558.jpeg
END:VEVENT
BEGIN:VEVENT
DTSTART;TZID=America/Los_Angeles:20290202T183000
DTEND;TZID=America/Los_Angeles:20290202T220000
DTSTAMP:20260423T030059
CREATED:20260422T103841Z
LAST-MODIFIED:20260422T103841Z
UID:10000211-1864751400-1864764000@www.woodlandweekender.com
SUMMARY:Friday Night Cruising
DESCRIPTION:Every Friday cruise old town woodland!! Show up have fun stop in to local businesses and see cool cars!!
URL:https://www.woodlandweekender.com/event/friday-night-cruising/2029-02-02/
CATEGORIES:Kids & Family
ATTACH;FMTTYPE=image/jpeg:https://www.woodlandweekender.com/wp-content/uploads/2026/04/IMG_1558.jpeg
END:VEVENT
BEGIN:VEVENT
DTSTART;TZID=America/Los_Angeles:20290209T183000
DTEND;TZID=America/Los_Angeles:20290209T220000
DTSTAMP:20260423T030059
CREATED:20260422T103841Z
LAST-MODIFIED:20260422T103841Z
UID:10000212-1865356200-1865368800@www.woodlandweekender.com
SUMMARY:Friday Night Cruising
DESCRIPTION:Every Friday cruise old town woodland!! Show up have fun stop in to local businesses and see cool cars!!
URL:https://www.woodlandweekender.com/event/friday-night-cruising/2029-02-09/
CATEGORIES:Kids & Family
ATTACH;FMTTYPE=image/jpeg:https://www.woodlandweekender.com/wp-content/uploads/2026/04/IMG_1558.jpeg
END:VEVENT
BEGIN:VEVENT
DTSTART;TZID=America/Los_Angeles:20290216T183000
DTEND;TZID=America/Los_Angeles:20290216T220000
DTSTAMP:20260423T030059
CREATED:20260422T103841Z
LAST-MODIFIED:20260422T103841Z
UID:10000213-1865961000-1865973600@www.woodlandweekender.com
SUMMARY:Friday Night Cruising
DESCRIPTION:Every Friday cruise old town woodland!! Show up have fun stop in to local businesses and see cool cars!!
URL:https://www.woodlandweekender.com/event/friday-night-cruising/2029-02-16/
CATEGORIES:Kids & Family
ATTACH;FMTTYPE=image/jpeg:https://www.woodlandweekender.com/wp-content/uploads/2026/04/IMG_1558.jpeg
END:VEVENT
BEGIN:VEVENT
DTSTART;TZID=America/Los_Angeles:20290223T183000
DTEND;TZID=America/Los_Angeles:20290223T220000
DTSTAMP:20260423T030059
CREATED:20260422T103841Z
LAST-MODIFIED:20260422T103841Z
UID:10000214-1866565800-1866578400@www.woodlandweekender.com
SUMMARY:Friday Night Cruising
DESCRIPTION:Every Friday cruise old town woodland!! Show up have fun stop in to local businesses and see cool cars!!
URL:https://www.woodlandweekender.com/event/friday-night-cruising/2029-02-23/
CATEGORIES:Kids & Family
ATTACH;FMTTYPE=image/jpeg:https://www.woodlandweekender.com/wp-content/uploads/2026/04/IMG_1558.jpeg
END:VEVENT
BEGIN:VEVENT
DTSTART;TZID=America/Los_Angeles:20290302T183000
DTEND;TZID=America/Los_Angeles:20290302T220000
DTSTAMP:20260423T030059
CREATED:20260422T103841Z
LAST-MODIFIED:20260422T103841Z
UID:10000215-1867170600-1867183200@www.woodlandweekender.com
SUMMARY:Friday Night Cruising
DESCRIPTION:Every Friday cruise old town woodland!! Show up have fun stop in to local businesses and see cool cars!!
URL:https://www.woodlandweekender.com/event/friday-night-cruising/2029-03-02/
CATEGORIES:Kids & Family
ATTACH;FMTTYPE=image/jpeg:https://www.woodlandweekender.com/wp-content/uploads/2026/04/IMG_1558.jpeg
END:VEVENT
BEGIN:VEVENT
DTSTART;TZID=America/Los_Angeles:20290309T183000
DTEND;TZID=America/Los_Angeles:20290309T220000
DTSTAMP:20260423T030059
CREATED:20260422T103841Z
LAST-MODIFIED:20260422T103841Z
UID:10000216-1867775400-1867788000@www.woodlandweekender.com
SUMMARY:Friday Night Cruising
DESCRIPTION:Every Friday cruise old town woodland!! Show up have fun stop in to local businesses and see cool cars!!
URL:https://www.woodlandweekender.com/event/friday-night-cruising/2029-03-09/
CATEGORIES:Kids & Family
ATTACH;FMTTYPE=image/jpeg:https://www.woodlandweekender.com/wp-content/uploads/2026/04/IMG_1558.jpeg
END:VEVENT
BEGIN:VEVENT
DTSTART;TZID=America/Los_Angeles:20290316T183000
DTEND;TZID=America/Los_Angeles:20290316T220000
DTSTAMP:20260423T030059
CREATED:20260422T103841Z
LAST-MODIFIED:20260422T103841Z
UID:10000217-1868380200-1868392800@www.woodlandweekender.com
SUMMARY:Friday Night Cruising
DESCRIPTION:Every Friday cruise old town woodland!! Show up have fun stop in to local businesses and see cool cars!!
URL:https://www.woodlandweekender.com/event/friday-night-cruising/2029-03-16/
CATEGORIES:Kids & Family
ATTACH;FMTTYPE=image/jpeg:https://www.woodlandweekender.com/wp-content/uploads/2026/04/IMG_1558.jpeg
END:VEVENT
BEGIN:VEVENT
DTSTART;TZID=America/Los_Angeles:20290323T183000
DTEND;TZID=America/Los_Angeles:20290323T220000
DTSTAMP:20260423T030059
CREATED:20260422T103841Z
LAST-MODIFIED:20260422T103841Z
UID:10000218-1868985000-1868997600@www.woodlandweekender.com
SUMMARY:Friday Night Cruising
DESCRIPTION:Every Friday cruise old town woodland!! Show up have fun stop in to local businesses and see cool cars!!
URL:https://www.woodlandweekender.com/event/friday-night-cruising/2029-03-23/
CATEGORIES:Kids & Family
ATTACH;FMTTYPE=image/jpeg:https://www.woodlandweekender.com/wp-content/uploads/2026/04/IMG_1558.jpeg
END:VEVENT
BEGIN:VEVENT
DTSTART;TZID=America/Los_Angeles:20290330T183000
DTEND;TZID=America/Los_Angeles:20290330T220000
DTSTAMP:20260423T030059
CREATED:20260422T103841Z
LAST-MODIFIED:20260422T103841Z
UID:10000219-1869589800-1869602400@www.woodlandweekender.com
SUMMARY:Friday Night Cruising
DESCRIPTION:Every Friday cruise old town woodland!! Show up have fun stop in to local businesses and see cool cars!!
URL:https://www.woodlandweekender.com/event/friday-night-cruising/2029-03-30/
CATEGORIES:Kids & Family
ATTACH;FMTTYPE=image/jpeg:https://www.woodlandweekender.com/wp-content/uploads/2026/04/IMG_1558.jpeg
END:VEVENT
BEGIN:VEVENT
DTSTART;TZID=America/Los_Angeles:20290406T183000
DTEND;TZID=America/Los_Angeles:20290406T220000
DTSTAMP:20260423T030059
CREATED:20260422T103841Z
LAST-MODIFIED:20260422T103841Z
UID:10000220-1870194600-1870207200@www.woodlandweekender.com
SUMMARY:Friday Night Cruising
DESCRIPTION:Every Friday cruise old town woodland!! Show up have fun stop in to local businesses and see cool cars!!
URL:https://www.woodlandweekender.com/event/friday-night-cruising/2029-04-06/
CATEGORIES:Kids & Family
ATTACH;FMTTYPE=image/jpeg:https://www.woodlandweekender.com/wp-content/uploads/2026/04/IMG_1558.jpeg
END:VEVENT
BEGIN:VEVENT
DTSTART;TZID=America/Los_Angeles:20290413T183000
DTEND;TZID=America/Los_Angeles:20290413T220000
DTSTAMP:20260423T030059
CREATED:20260422T103841Z
LAST-MODIFIED:20260422T103841Z
UID:10000221-1870799400-1870812000@www.woodlandweekender.com
SUMMARY:Friday Night Cruising
DESCRIPTION:Every Friday cruise old town woodland!! Show up have fun stop in to local businesses and see cool cars!!
URL:https://www.woodlandweekender.com/event/friday-night-cruising/2029-04-13/
CATEGORIES:Kids & Family
ATTACH;FMTTYPE=image/jpeg:https://www.woodlandweekender.com/wp-content/uploads/2026/04/IMG_1558.jpeg
END:VEVENT
BEGIN:VEVENT
DTSTART;TZID=America/Los_Angeles:20290420T183000
DTEND;TZID=America/Los_Angeles:20290420T220000
DTSTAMP:20260423T030059
CREATED:20260422T103841Z
LAST-MODIFIED:20260422T103841Z
UID:10000222-1871404200-1871416800@www.woodlandweekender.com
SUMMARY:Friday Night Cruising
DESCRIPTION:Every Friday cruise old town woodland!! Show up have fun stop in to local businesses and see cool cars!!
URL:https://www.woodlandweekender.com/event/friday-night-cruising/2029-04-20/
CATEGORIES:Kids & Family
ATTACH;FMTTYPE=image/jpeg:https://www.woodlandweekender.com/wp-content/uploads/2026/04/IMG_1558.jpeg
END:VEVENT
BEGIN:VEVENT
DTSTART;TZID=America/Los_Angeles:20290427T183000
DTEND;TZID=America/Los_Angeles:20290427T220000
DTSTAMP:20260423T030059
CREATED:20260422T103841Z
LAST-MODIFIED:20260422T103841Z
UID:10000223-1872009000-1872021600@www.woodlandweekender.com
SUMMARY:Friday Night Cruising
DESCRIPTION:Every Friday cruise old town woodland!! Show up have fun stop in to local businesses and see cool cars!!
URL:https://www.woodlandweekender.com/event/friday-night-cruising/2029-04-27/
CATEGORIES:Kids & Family
ATTACH;FMTTYPE=image/jpeg:https://www.woodlandweekender.com/wp-content/uploads/2026/04/IMG_1558.jpeg
END:VEVENT
BEGIN:VEVENT
DTSTART;TZID=America/Los_Angeles:20290504T183000
DTEND;TZID=America/Los_Angeles:20290504T220000
DTSTAMP:20260423T030059
CREATED:20260422T103841Z
LAST-MODIFIED:20260422T103841Z
UID:10000224-1872613800-1872626400@www.woodlandweekender.com
SUMMARY:Friday Night Cruising
DESCRIPTION:Every Friday cruise old town woodland!! Show up have fun stop in to local businesses and see cool cars!!
URL:https://www.woodlandweekender.com/event/friday-night-cruising/2029-05-04/
CATEGORIES:Kids & Family
ATTACH;FMTTYPE=image/jpeg:https://www.woodlandweekender.com/wp-content/uploads/2026/04/IMG_1558.jpeg
END:VEVENT
BEGIN:VEVENT
DTSTART;TZID=America/Los_Angeles:20290511T183000
DTEND;TZID=America/Los_Angeles:20290511T220000
DTSTAMP:20260423T030059
CREATED:20260422T103841Z
LAST-MODIFIED:20260422T103841Z
UID:10000225-1873218600-1873231200@www.woodlandweekender.com
SUMMARY:Friday Night Cruising
DESCRIPTION:Every Friday cruise old town woodland!! Show up have fun stop in to local businesses and see cool cars!!
URL:https://www.woodlandweekender.com/event/friday-night-cruising/2029-05-11/
CATEGORIES:Kids & Family
ATTACH;FMTTYPE=image/jpeg:https://www.woodlandweekender.com/wp-content/uploads/2026/04/IMG_1558.jpeg
END:VEVENT
BEGIN:VEVENT
DTSTART;TZID=America/Los_Angeles:20290518T183000
DTEND;TZID=America/Los_Angeles:20290518T220000
DTSTAMP:20260423T030059
CREATED:20260422T103841Z
LAST-MODIFIED:20260422T103841Z
UID:10000226-1873823400-1873836000@www.woodlandweekender.com
SUMMARY:Friday Night Cruising
DESCRIPTION:Every Friday cruise old town woodland!! Show up have fun stop in to local businesses and see cool cars!!
URL:https://www.woodlandweekender.com/event/friday-night-cruising/2029-05-18/
CATEGORIES:Kids & Family
ATTACH;FMTTYPE=image/jpeg:https://www.woodlandweekender.com/wp-content/uploads/2026/04/IMG_1558.jpeg
END:VEVENT
BEGIN:VEVENT
DTSTART;TZID=America/Los_Angeles:20290525T183000
DTEND;TZID=America/Los_Angeles:20290525T220000
DTSTAMP:20260423T030059
CREATED:20260422T103841Z
LAST-MODIFIED:20260422T103841Z
UID:10000227-1874428200-1874440800@www.woodlandweekender.com
SUMMARY:Friday Night Cruising
DESCRIPTION:Every Friday cruise old town woodland!! Show up have fun stop in to local businesses and see cool cars!!
URL:https://www.woodlandweekender.com/event/friday-night-cruising/2029-05-25/
CATEGORIES:Kids & Family
ATTACH;FMTTYPE=image/jpeg:https://www.woodlandweekender.com/wp-content/uploads/2026/04/IMG_1558.jpeg
END:VEVENT
BEGIN:VEVENT
DTSTART;TZID=America/Los_Angeles:20290601T183000
DTEND;TZID=America/Los_Angeles:20290601T220000
DTSTAMP:20260423T030059
CREATED:20260422T103841Z
LAST-MODIFIED:20260422T103841Z
UID:10000228-1875033000-1875045600@www.woodlandweekender.com
SUMMARY:Friday Night Cruising
DESCRIPTION:Every Friday cruise old town woodland!! Show up have fun stop in to local businesses and see cool cars!!
URL:https://www.woodlandweekender.com/event/friday-night-cruising/2029-06-01/
CATEGORIES:Kids & Family
ATTACH;FMTTYPE=image/jpeg:https://www.woodlandweekender.com/wp-content/uploads/2026/04/IMG_1558.jpeg
END:VEVENT
BEGIN:VEVENT
DTSTART;TZID=America/Los_Angeles:20290608T183000
DTEND;TZID=America/Los_Angeles:20290608T220000
DTSTAMP:20260423T030059
CREATED:20260422T103841Z
LAST-MODIFIED:20260422T103841Z
UID:10000229-1875637800-1875650400@www.woodlandweekender.com
SUMMARY:Friday Night Cruising
DESCRIPTION:Every Friday cruise old town woodland!! Show up have fun stop in to local businesses and see cool cars!!
URL:https://www.woodlandweekender.com/event/friday-night-cruising/2029-06-08/
CATEGORIES:Kids & Family
ATTACH;FMTTYPE=image/jpeg:https://www.woodlandweekender.com/wp-content/uploads/2026/04/IMG_1558.jpeg
END:VEVENT
BEGIN:VEVENT
DTSTART;TZID=America/Los_Angeles:20290615T183000
DTEND;TZID=America/Los_Angeles:20290615T220000
DTSTAMP:20260423T030059
CREATED:20260422T103841Z
LAST-MODIFIED:20260422T103841Z
UID:10000230-1876242600-1876255200@www.woodlandweekender.com
SUMMARY:Friday Night Cruising
DESCRIPTION:Every Friday cruise old town woodland!! Show up have fun stop in to local businesses and see cool cars!!
URL:https://www.woodlandweekender.com/event/friday-night-cruising/2029-06-15/
CATEGORIES:Kids & Family
ATTACH;FMTTYPE=image/jpeg:https://www.woodlandweekender.com/wp-content/uploads/2026/04/IMG_1558.jpeg
END:VEVENT
END:VCALENDAR