BEGIN:VCALENDAR
VERSION:2.0
PRODID:-//Woodland Weekender - ECPv6.15.20//NONSGML v1.0//EN
CALSCALE:GREGORIAN
METHOD:PUBLISH
X-WR-CALNAME:Woodland Weekender
X-ORIGINAL-URL:https://www.woodlandweekender.com
X-WR-CALDESC:Events for Woodland Weekender
REFRESH-INTERVAL;VALUE=DURATION:PT1H
X-Robots-Tag:noindex
X-PUBLISHED-TTL:PT1H
BEGIN:VTIMEZONE
TZID:America/Los_Angeles
BEGIN:DAYLIGHT
TZOFFSETFROM:-0800
TZOFFSETTO:-0700
TZNAME:PDT
DTSTART:20300310T100000
END:DAYLIGHT
BEGIN:STANDARD
TZOFFSETFROM:-0700
TZOFFSETTO:-0800
TZNAME:PST
DTSTART:20301103T090000
END:STANDARD
BEGIN:DAYLIGHT
TZOFFSETFROM:-0800
TZOFFSETTO:-0700
TZNAME:PDT
DTSTART:20310309T100000
END:DAYLIGHT
BEGIN:STANDARD
TZOFFSETFROM:-0700
TZOFFSETTO:-0800
TZNAME:PST
DTSTART:20311102T090000
END:STANDARD
BEGIN:DAYLIGHT
TZOFFSETFROM:-0800
TZOFFSETTO:-0700
TZNAME:PDT
DTSTART:20320314T100000
END:DAYLIGHT
BEGIN:STANDARD
TZOFFSETFROM:-0700
TZOFFSETTO:-0800
TZNAME:PST
DTSTART:20321107T090000
END:STANDARD
END:VTIMEZONE
BEGIN:VEVENT
DTSTART;TZID=America/Los_Angeles:20310418T183000
DTEND;TZID=America/Los_Angeles:20310418T220000
DTSTAMP:20260423T150628
CREATED:20260422T103841Z
LAST-MODIFIED:20260422T103841Z
UID:10000326-1934303400-1934316000@www.woodlandweekender.com
SUMMARY:Friday Night Cruising
DESCRIPTION:Every Friday cruise old town woodland!! Show up have fun stop in to local businesses and see cool cars!!
URL:https://www.woodlandweekender.com/event/friday-night-cruising/2031-04-18/
CATEGORIES:Kids & Family
ATTACH;FMTTYPE=image/jpeg:https://www.woodlandweekender.com/wp-content/uploads/2026/04/IMG_1558.jpeg
END:VEVENT
END:VCALENDAR