BEGIN:VCALENDAR
VERSION:2.0
PRODID:-//Woodland Weekender - ECPv6.15.20//NONSGML v1.0//EN
CALSCALE:GREGORIAN
METHOD:PUBLISH
X-WR-CALNAME:Woodland Weekender
X-ORIGINAL-URL:https://www.woodlandweekender.com
X-WR-CALDESC:Events for Woodland Weekender
REFRESH-INTERVAL;VALUE=DURATION:PT1H
X-Robots-Tag:noindex
X-PUBLISHED-TTL:PT1H
BEGIN:VTIMEZONE
TZID:UTC
BEGIN:STANDARD
TZOFFSETFROM:+0000
TZOFFSETTO:+0000
TZNAME:UTC
DTSTART:20250101T000000
END:STANDARD
END:VTIMEZONE
BEGIN:VEVENT
DTSTART;TZID=UTC:20260618T180000
DTEND;TZID=UTC:20260622T000000
DTSTAMP:20260419T133945
CREATED:20260417T221227Z
LAST-MODIFIED:20260419T153511Z
UID:10000059-1781805600-1782086400@www.woodlandweekender.com
SUMMARY:104th Annual Planters Days Celebration
DESCRIPTION:Join us! From the kids and pet parades ~ to the coronation and fireworks ~ to library book sale and community bingo ~ even Woodland’s Strongest competition and mixed in with a market of local vendors ~ and let’s not forget the Firemen’s BBQ\, military vehicles\, bed races\, live entertainment\, and the Cruise-In filling the streets.\nAnd then there’s the Frog Jump *now in its 58th year* where generations of kids line up for their shot at prizes (and bragging rights)\, cheering on frogs for longest jump\, biggest\, smallest\, and everything in between.\nIt has been a tradition for over 100 years and it’s Woodland’s most anticipated event!
URL:https://www.woodlandweekender.com/event/104th-annual-planters-days-celebration-3/
LOCATION:Horseshoe Lake Park
CATEGORIES:Kids & Family,Markets & Pop-Ups
ATTACH;FMTTYPE=image/jpeg:https://www.woodlandweekender.com/wp-content/uploads/2026/04/planters-day2.jpg
END:VEVENT
BEGIN:VEVENT
DTSTART;TZID=UTC:20260621T010000
DTEND;TZID=UTC:20260621T040000
DTSTAMP:20260419T133945
CREATED:20260417T210857Z
LAST-MODIFIED:20260417T214137Z
UID:10000041-1782003600-1782014400@www.woodlandweekender.com
SUMMARY:Planters Days Cruise-In
DESCRIPTION:Kick off the weekend with a rolling parade of horsepower!\nWe’ll be cruising the streets of downtown Woodland and turning the town into a live showcase of classics\, customs\, hot rods\, and more. If it has a motor and wheels — bring it! Honk\, wave\, and soak in the summer vibes as we roll through town together.\nLineup begins at 6:00 PM at\n📍 1819 Heritage Street\, Woodland\, WA 98674\nCruise departs at 7:00 PM\nThis is a free event to cruise and show off your ride. Voluntary donations are welcome and will help raise money for Northwest Battle Buddies\, supporting veterans in need.\nCome out\, have fun\, and help us turn horsepower into hope!\nhttps://www.facebook.com/events/1568366244712971/
URL:https://www.woodlandweekender.com/event/planters-days-cruise-in-2/
LOCATION:1698 Heritage St Woodland\, Woodland\, WA\, United States
GEO:45.937521;-122.686548
END:VEVENT
BEGIN:VEVENT
DTSTART;TZID=UTC:20260626T170000
DTEND;TZID=UTC:20260628T110000
DTSTAMP:20260419T133945
CREATED:20260417T210858Z
LAST-MODIFIED:20260417T214137Z
UID:10000043-1782493200-1782644400@www.woodlandweekender.com
SUMMARY:Mojo Fest 2026
DESCRIPTION:Our goal for Mojo Fest is to cultivate a community rooted in acceptance\, spiritual growth\, and joy by providing a space filled with music\, art\, and nature. We are a community first\, music festival second.\nJust a short 30 minute drive from Portland on the Columbia River in Woodland\, WA–this 40 acre island offers stunning beauty\, beaches\, swimming\, and forests. A road was built to access the island 40 years ago and it has been used for various events ever since. Mojo Fest will showcase some of the finest musical acts in the jam\, funk\, indie\, and electronic scene! Our outdoor main stage will have music all day into the late night.\nA weekend pass grants you full music access Friday\, Saturday and Sunday–and includes camping. Vehicle passes are available for purchase on our ticket page\, as well as Day Passes (Day passes do not include camping). Check the festival instagram for this year’s lineup!\nMojo Fest is a pack-in\, pack-out festival – hosted from Friday 6/26/2026 (10am) to Sunday 6/28/2026 (4pm).\nVolunteers & Vendors please see our instagram/website for application details.\nhttps://www.facebook.com/events/924927159883082/
URL:https://www.woodlandweekender.com/event/mojo-fest-2026-2/
LOCATION:1108 Dike Rd SW\, Woodland\, WA\, United States
GEO:45.937521;-122.686548
END:VEVENT
END:VCALENDAR