BEGIN:VCALENDAR
VERSION:2.0
PRODID:-//Woodland Weekender - ECPv6.15.20//NONSGML v1.0//EN
CALSCALE:GREGORIAN
METHOD:PUBLISH
X-WR-CALNAME:Woodland Weekender
X-ORIGINAL-URL:https://www.woodlandweekender.com
X-WR-CALDESC:Events for Woodland Weekender
REFRESH-INTERVAL;VALUE=DURATION:PT1H
X-Robots-Tag:noindex
X-PUBLISHED-TTL:PT1H
BEGIN:VTIMEZONE
TZID:UTC
BEGIN:STANDARD
TZOFFSETFROM:+0000
TZOFFSETTO:+0000
TZNAME:UTC
DTSTART:20250101T000000
END:STANDARD
END:VTIMEZONE
BEGIN:VTIMEZONE
TZID:America/Los_Angeles
BEGIN:DAYLIGHT
TZOFFSETFROM:-0800
TZOFFSETTO:-0700
TZNAME:PDT
DTSTART:20250309T100000
END:DAYLIGHT
BEGIN:STANDARD
TZOFFSETFROM:-0700
TZOFFSETTO:-0800
TZNAME:PST
DTSTART:20251102T090000
END:STANDARD
BEGIN:DAYLIGHT
TZOFFSETFROM:-0800
TZOFFSETTO:-0700
TZNAME:PDT
DTSTART:20260308T100000
END:DAYLIGHT
BEGIN:STANDARD
TZOFFSETFROM:-0700
TZOFFSETTO:-0800
TZNAME:PST
DTSTART:20261101T090000
END:STANDARD
BEGIN:DAYLIGHT
TZOFFSETFROM:-0800
TZOFFSETTO:-0700
TZNAME:PDT
DTSTART:20270314T100000
END:DAYLIGHT
BEGIN:STANDARD
TZOFFSETFROM:-0700
TZOFFSETTO:-0800
TZNAME:PST
DTSTART:20271107T090000
END:STANDARD
END:VTIMEZONE
BEGIN:VEVENT
DTSTART;TZID=UTC:20260418T170000
DTEND;TZID=UTC:20260419T010000
DTSTAMP:20260419T165925
CREATED:20260417T221226Z
LAST-MODIFIED:20260418T121045Z
UID:10000045-1776531600-1776560400@www.woodlandweekender.com
SUMMARY:Rusted Roots Apparel & Gifts Grand Opening
DESCRIPTION:🎉 GRAND OPENING CELEBRATION 🎉\nWe’re excited to officially open the doors to our New Vendor Collective — your new go-to spot for unique finds\, local goods\, and one-of-a-kind treasures!\n🛍️ Shop a curated mix of local vendors\n✨ Discover handmade\, upcycled\, boutique\, and specialty items\n🤝 Support small businesses in our community\n📅 Grand Opening: April 18\, 2026\n📍 Location: 1501 Guild Rd Woodland\, WA 98674\n⏰ Time: 10:00 am – 6:00 pm\nBring your friends and family\, enjoy the atmosphere\, and be part of something special from the very beginning. We can’t wait to see you there!\n#GrandOpening #ShopLocal #VendorCollective #SupportSmallBusiness\nhttps://www.facebook.com/events/995156096168982/
URL:https://www.woodlandweekender.com/event/rusted-roots-apparel-gifts-grand-opening-3/
LOCATION:1501 Guild Rd\, Woodland\, WA\, United States
CATEGORIES:Markets & Pop-Ups
GEO:45.937521;-122.686548
END:VEVENT
BEGIN:VEVENT
DTSTART;TZID=UTC:20260418T160000
DTEND;TZID=UTC:20260418T190000
DTSTAMP:20260419T165925
CREATED:20260417T210853Z
LAST-MODIFIED:20260417T224552Z
UID:10000030-1776528000-1776538800@www.woodlandweekender.com
SUMMARY:⚾ Lewis River Little League Opening Ceremonies Jamboree 🥎
DESCRIPTION:⚾ Lewis River Little League Opening Ceremonies Jamboree 🥎\nJoin us as we kick off the 2026 Lewis River Little League season with a fun-filled Opening Ceremonies Jamboree celebrating our athletes\, families\, and community!\nThe morning begins as our players arrive in their team uniforms and gather with their teammates to prepare for the ceremony.\nEvent Schedule\n🕘 9:00 AM – Athletes arrive and line up with their teams on the T-Ball Field\n🎉 9:30 AM – Opening Ceremonies Parade on the Coach Pitch Field\nDuring the ceremony\, each team will be introduced as they parade onto the field in front of their families\, friends\, and the LRLL community to officially open the season.\nAfter the ceremony\, the celebration continues with a community jamboree featuring:\n⚾ Mini LRLL baseball and softball games\n🍔 Food trucks & tasty treats\n🛍 Local vendors\n🧢 Lewis River Little League gear\n🍿 Our LRLL Snack Shack\n🎪 Carnival-style games\n🏃 Obstacle Course Bounce House\n…and more fun throughout the morning!\nBring the whole family and come celebrate the start of another great Little League season. We can’t wait to see our athletes take the field and our community come together.\nLet’s play ball\, Lewis River! ⚾💚🥎🎉\nhttps://www.facebook.com/events/912523821635624/
URL:https://www.woodlandweekender.com/event/%e2%9a%be-lewis-river-little-league-opening-ceremonies-jamboree-%f0%9f%a5%8e-2/
LOCATION:7055 Green Mountain Rd.\, Woodland\, WA\, United States
GEO:45.937521;-122.686548
END:VEVENT
BEGIN:VEVENT
DTSTART;TZID=America/Los_Angeles:20260418T140000
DTEND;TZID=America/Los_Angeles:20260418T170000
DTSTAMP:20260419T165925
CREATED:20260405T130156Z
LAST-MODIFIED:20260418T224249Z
UID:10000010-1776520800-1776531600@www.woodlandweekender.com
SUMMARY:Spring Recital & Fundraiser
DESCRIPTION:🌸 Spring Recital at Woodland High School! 🌸�📅 April 18\, 2026�🕑 2:00 PM�📍 Woodland High School Auditorium�🎟️ FREE ENTRY!\nJoin us for our Spring Recital and watch your dancers light up the stage! ✨�This is a special performance and opportunity for your dancer to shine in front of friends and family before our End-of-Year Recital on June 13th!\n🎉 Plus\, don't miss our RAFFLE PRIZES !\nhttps://www.facebook.com/events/800759316384844/
URL:https://www.woodlandweekender.com/event/spring-recital-fundraiser/
LOCATION:1331 N Goerig St Suite A-1\, Woodland\, WA\, United States
CATEGORIES:Markets & Pop-Ups
GEO:45.937521;-122.686548
END:VEVENT
BEGIN:VEVENT
DTSTART;TZID=America/Los_Angeles:20260418T130000
DTEND;TZID=America/Los_Angeles:20260418T140000
DTSTAMP:20260419T165925
CREATED:20260416T211022Z
LAST-MODIFIED:20260418T121007Z
UID:10000014-1776517200-1776520800@www.woodlandweekender.com
SUMMARY:McElrath Classical Cabaret Duo
DESCRIPTION:The musical duo of K. J. and Athena McElrath perform a classic cabaret act of piano and singing reminiscent of what you might have heard from the 1920s to the 1960s in New York’s swankiest nightspots. With a popular mix of songs from the heyday of Broadway\, Hollywood\, and Tin Pan Alley\, they bring warmth\, humor\, and authenticity in style\, entertaining audiences since 1996.\nhttps://www.facebook.com/events/2556695981415598/
URL:https://www.woodlandweekender.com/event/mcelrath-classical-cabaret-duo/
LOCATION:Woodland Community Library
CATEGORIES:Kids & Family
END:VEVENT
BEGIN:VEVENT
DTSTART;TZID=America/Los_Angeles:20260418T100000
DTEND;TZID=America/Los_Angeles:20260418T180000
DTSTAMP:20260419T165925
CREATED:20260416T211022Z
LAST-MODIFIED:20260418T224249Z
UID:10000013-1776506400-1776535200@www.woodlandweekender.com
SUMMARY:Rusted Roots Apparel & Gifts Grand Opening
DESCRIPTION:🎉 GRAND OPENING CELEBRATION 🎉\nWe’re excited to officially open the doors to our New Vendor Collective — your new go-to spot for unique finds\, local goods\, and one-of-a-kind treasures!\n🛍️ Shop a curated mix of local vendors\n✨ Discover handmade\, upcycled\, boutique\, and specialty items\n🤝 Support small businesses in our community\n📅 Grand Opening: April 18\, 2026\n📍 Location: 1501 Guild Rd Woodland\, WA 98674\n⏰ Time: 10:00 am – 6:00 pm\nBring your friends and family\, enjoy the atmosphere\, and be part of something special from the very beginning. We can’t wait to see you there!\n#GrandOpening #ShopLocal #VendorCollective #SupportSmallBusiness\nhttps://www.facebook.com/events/995156096168982/
URL:https://www.woodlandweekender.com/event/rusted-roots-apparel-gifts-grand-opening/
LOCATION:1501 Guild Rd\, Woodland\, WA\, United States
ATTACH;FMTTYPE=image/jpeg:https://www.woodlandweekender.com/wp-content/uploads/2026/04/670959641_958414270019040_5116165785931237950_n.jpg
GEO:45.937521;-122.686548
END:VEVENT
BEGIN:VEVENT
DTSTART;TZID=America/Los_Angeles:20260418T090000
DTEND;TZID=America/Los_Angeles:20260418T120000
DTSTAMP:20260419T165925
CREATED:20260405T130156Z
LAST-MODIFIED:20260417T223131Z
UID:10000009-1776502800-1776513600@www.woodlandweekender.com
SUMMARY:⚾ Lewis River Little League Opening Ceremonies Jamboree 🥎
DESCRIPTION:⚾ Lewis River Little League Opening Ceremonies Jamboree 🥎\nJoin us as we kick off the 2026 Lewis River Little League season with a fun-filled Opening Ceremonies Jamboree celebrating our athletes\, families\, and community!\nThe morning begins as our players arrive in their team uniforms and gather with their teammates to prepare for the ceremony.\nEvent Schedule\n🕘 9:00 AM – Athletes arrive and line up with their teams on the T-Ball Field\n🎉 9:30 AM – Opening Ceremonies Parade on the Coach Pitch Field\nDuring the ceremony\, each team will be introduced as they parade onto the field in front of their families\, friends\, and the LRLL community to officially open the season.\nAfter the ceremony\, the celebration continues with a community jamboree featuring:\n⚾ Mini LRLL baseball and softball games\n🍔 Food trucks & tasty treats\n🛍 Local vendors\n🧢 Lewis River Little League gear\n🍿 Our LRLL Snack Shack\n🎪 Carnival-style games\n🏃 Obstacle Course Bounce House\n…and more fun throughout the morning!\nBring the whole family and come celebrate the start of another great Little League season. We can’t wait to see our athletes take the field and our community come together.\nLet’s play ball\, Lewis River! ⚾💚🥎🎉\nhttps://www.facebook.com/events/912523821635624/
URL:https://www.woodlandweekender.com/event/%e2%9a%be-lewis-river-little-league-opening-ceremonies-jamboree-%f0%9f%a5%8e/
LOCATION:7055 Green Mountain Rd.\, Woodland\, WA\, United States
CATEGORIES:Kids & Family
ATTACH;FMTTYPE=image/jpeg:https://www.woodlandweekender.com/wp-content/uploads/2026/04/Jamboreee.jpg
GEO:45.937521;-122.686548
END:VEVENT
BEGIN:VEVENT
DTSTART;VALUE=DATE:20260418
DTEND;VALUE=DATE:20260420
DTSTAMP:20260419T165925
CREATED:20260417T221226Z
LAST-MODIFIED:20260417T224552Z
UID:10000050-1776470400-1776643199@www.woodlandweekender.com
SUMMARY:Lilac Days Opening Weekend!
DESCRIPTION:Lilac Days are back at the Hulda Klager Lilac Gardens ~ and if you’ve never been\, this is your sign.\nFor a few short weeks each spring\, this place comes alive with blooming lilacs\, winding garden paths\, and that peaceful\, slow-down-and-wander kind of energy that just hits different.\nRight now: theyve got a sneak peek happening for us locals! Scroll thru the attached post to see just a sliver of the beauty 🌷\nThe big event:\n📅 When: April 18th – Mother’s Day (May 10th)\n🕙 Hours: Open daily\, 10 AM – 4 PM\n🌿 What to expect:\n• Stunning lilac gardens in full bloom\n• Plant sale (take a little piece home 🌱)\n• Gift shop + museum\n• Farmhouse tours daily from 1–4 PM\n🎟 Admission:\n• Adults: $10\n• Children: Free\n📍 Where: 115 South Pekin Road\nIf you’re looking for something easy\, beautiful\, and very Woodland to do—this is it. Bring your mom\, bring your kids\, bring your camera… or just go wander and smell the lilacs.\nThis is one of those “locals know” kind of events… and honestly\, it’s a must every year.\n👉 Save this\, send it to someone\, and make a plan.
URL:https://www.woodlandweekender.com/event/lilac-days-opening-weekend-3/
LOCATION:Lilac Gardens-Hulda Klager\, 115 S Pekin Rd\, Woodland\, WA\, United States
GEO:45.896508;-122.751819
X-APPLE-STRUCTURED-LOCATION;VALUE=URI;X-ADDRESS=Lilac Gardens-Hulda Klager 115 S Pekin Rd Woodland WA United States;X-APPLE-RADIUS=500;X-TITLE=115 S Pekin Rd:geo:-122.751819,45.896508
END:VEVENT
BEGIN:VEVENT
DTSTART;TZID=America/Los_Angeles:20260417T090000
DTEND;TZID=America/Los_Angeles:20260419T170000
DTSTAMP:20260419T165925
CREATED:20260416T211022Z
LAST-MODIFIED:20260419T224105Z
UID:10000016-1776416400-1776618000@www.woodlandweekender.com
SUMMARY:Tsugawa Nursery - Ready Set Bloom!!
DESCRIPTION:Come join us to celebrate 45 years of being in business! Tsugawa Nursery\n– Participate in FREE workshops\n– Get special deals\n– Experience special guest vendors and more!\n  \nStay tuned for more information!\nhttps://www.facebook.com/events/1266728988248336/
URL:https://www.woodlandweekender.com/event/tsugawa-nursery-ready-set-bloom/
LOCATION:410 E Scott Ave\, 1501 W St\, Vancouver\, WA\, United States
CATEGORIES:Markets & Pop-Ups
GEO:45.632345;-122.647445
X-APPLE-STRUCTURED-LOCATION;VALUE=URI;X-ADDRESS=410 E Scott Ave 1501 W St Vancouver WA United States;X-APPLE-RADIUS=500;X-TITLE=1501 W St:geo:-122.647445,45.632345
END:VEVENT
BEGIN:VEVENT
DTSTART;TZID=America/Los_Angeles:20260416T180000
DTEND;TZID=America/Los_Angeles:20260416T190000
DTSTAMP:20260419T165925
CREATED:20260405T130156Z
LAST-MODIFIED:20260414T221153Z
UID:10000007-1776362400-1776366000@www.woodlandweekender.com
SUMMARY:Digging the Dirt: Making Great Soil
DESCRIPTION:Great gardening starts with good soil that has the right pH and nutrient levels\, but how does it all work together? WSU Master Gardener Gary Fredricks will discuss soil basics and what you need to do to provide for a successful garden.\nhttps://www.facebook.com/events/755381354017437/
URL:https://www.woodlandweekender.com/event/digging-the-dirt-making-great-soil/
LOCATION:Woodland Community Library
CATEGORIES:Classes & Workshops
END:VEVENT
BEGIN:VEVENT
DTSTART;TZID=America/Los_Angeles:20260416T160000
DTEND;TZID=America/Los_Angeles:20260416T180000
DTSTAMP:20260419T165925
CREATED:20260405T130156Z
LAST-MODIFIED:20260414T221154Z
UID:10000008-1776355200-1776362400@www.woodlandweekender.com
SUMMARY:Woodland handcraft workshop and swap
DESCRIPTION:Learn crafting skills in this monthly series.\nhttps://www.facebook.com/events/1627090595200283/
URL:https://www.woodlandweekender.com/event/woodland-handcraft-workshop-and-swap/
LOCATION:The Oak Tree Restaurant & Lounge
CATEGORIES:Classes & Workshops
END:VEVENT
BEGIN:VEVENT
DTSTART;TZID=America/Los_Angeles:20260409T160000
DTEND;TZID=America/Los_Angeles:20260409T170000
DTSTAMP:20260419T165925
CREATED:20260406T205147Z
LAST-MODIFIED:20260414T031701Z
UID:10000012-1775750400-1775754000@www.woodlandweekender.com
SUMMARY:Kids Book Group: Online
DESCRIPTION:Are you ready for chapter books? Grab an adult to join you and come ready to discuss\, have fun\, and make new friends.\nFor ages 5–9\nRegister to receive the online link. If you have more than one child you want to register\, please add both names and ages in the same registration\n\nParticipants who register more than 10 days before the book discussion will have a copy of the book automatically sent to their chosen branch to be picked up. You will get a phone call when it is ready for you
URL:https://www.woodlandweekender.com/event/kids-book-group-online/
LOCATION:WA
CATEGORIES:Kids & Family
ATTACH;FMTTYPE=image/jpeg:https://www.woodlandweekender.com/wp-content/uploads/2026/04/605673210_1278238357666631_4287679918190044271_n.jpg
END:VEVENT
BEGIN:VEVENT
DTSTART;TZID=America/Los_Angeles:20260407T120000
DTEND;TZID=America/Los_Angeles:20260407T130000
DTSTAMP:20260419T165925
CREATED:20260405T130156Z
LAST-MODIFIED:20260414T031712Z
UID:10000006-1775563200-1775566800@www.woodlandweekender.com
SUMMARY:Woodland Chamber Luncheon!
DESCRIPTION:Join us for our next Chamber Luncheon and hear from the Port of Woodland!\nWe’re excited to welcome representatives from the Port as they share updates on projects\, growth\, and what’s ahead for our community. It’s a great opportunity to learn more about the important role the Port plays in supporting local business and economic development.\n✨ Connect with fellow Chamber members\n✨ Hear community updates\n✨ Enjoy great conversation over lunch\nCome network\, stay informed\, and be part of what’s happening in our community. We hope to see you there!\nhttps://www.facebook.com/events/2074012980215252/
URL:https://www.woodlandweekender.com/event/woodland-chamber-luncheon/
LOCATION:Oak Tree Restaurant & Lounge
CATEGORIES:Classes & Workshops
ATTACH;FMTTYPE=image/jpeg:https://www.woodlandweekender.com/wp-content/uploads/2026/04/486808068_9362184683876757_8808401350333395597_n.jpg
END:VEVENT
BEGIN:VEVENT
DTSTART;TZID=America/Los_Angeles:20260406T170000
DTEND;TZID=America/Los_Angeles:20260406T183000
DTSTAMP:20260419T165925
CREATED:20260405T130156Z
LAST-MODIFIED:20260414T031719Z
UID:10000005-1775494800-1775500200@www.woodlandweekender.com
SUMMARY:Monthly chronic pain/illness support group
DESCRIPTION:This no cost monthly support group is intended for anyone suffering from chronic pain and/or illness. It’s a safe place to provide each other support\, a sympathetic ear\, share what’s working and what isn’t\, and prevent feeling isolated and misunderstood.\nhttps://www.facebook.com/events/1340960854736408/?event_time_id=1340960861403074
URL:https://www.woodlandweekender.com/event/monthly-chronic-pain-illness-support-group/
LOCATION:Elevate Wellness NW
CATEGORIES:Classes & Workshops
ATTACH;FMTTYPE=image/webp:https://www.woodlandweekender.com/wp-content/uploads/2026/04/unnamed.webp
END:VEVENT
BEGIN:VEVENT
DTSTART;TZID=America/Los_Angeles:20260405T091500
DTEND;TZID=America/Los_Angeles:20260405T121500
DTSTAMP:20260419T165925
CREATED:20260405T130156Z
LAST-MODIFIED:20260405T144814Z
UID:10000004-1775380500-1775391300@www.woodlandweekender.com
SUMMARY:Annual Easter Egg Hunt
DESCRIPTION:We are hosting two identical sessions to make sure everyone has a chance to hunt! Please arrive 15 minutes early to check in and find your starting zone.\nSession 1: The Morning Leap\n09:15 AM | Tiny Tots Hunt (Ages 1–5)\n09:15 AM | Big Kids Quest (Ages 6–12)\nSession 2: The Afternoon Hop\n01:15 PM | Tiny Tots Hunt (Ages 1–5)\n01:15 PM | Big Kids Quest (Ages 6–12)
URL:https://www.woodlandweekender.com/event/annual-easter-egg-hunt/
LOCATION:3209 Old Lewis River Rd\, 1501 W St\, Vancouver\, WA\, United States
CATEGORIES:Kids & Family
GEO:45.632345;-122.647445
X-APPLE-STRUCTURED-LOCATION;VALUE=URI;X-ADDRESS=3209 Old Lewis River Rd 1501 W St Vancouver WA United States;X-APPLE-RADIUS=500;X-TITLE=1501 W St:geo:-122.647445,45.632345
END:VEVENT
END:VCALENDAR