BEGIN:VCALENDAR
VERSION:2.0
PRODID:-//Woodland Weekender - ECPv6.15.20//NONSGML v1.0//EN
CALSCALE:GREGORIAN
METHOD:PUBLISH
X-WR-CALNAME:Woodland Weekender
X-ORIGINAL-URL:https://www.woodlandweekender.com
X-WR-CALDESC:Events for Woodland Weekender
REFRESH-INTERVAL;VALUE=DURATION:PT1H
X-Robots-Tag:noindex
X-PUBLISHED-TTL:PT1H
BEGIN:VTIMEZONE
TZID:America/Los_Angeles
BEGIN:DAYLIGHT
TZOFFSETFROM:-0800
TZOFFSETTO:-0700
TZNAME:PDT
DTSTART:20250309T100000
END:DAYLIGHT
BEGIN:STANDARD
TZOFFSETFROM:-0700
TZOFFSETTO:-0800
TZNAME:PST
DTSTART:20251102T090000
END:STANDARD
BEGIN:DAYLIGHT
TZOFFSETFROM:-0800
TZOFFSETTO:-0700
TZNAME:PDT
DTSTART:20260308T100000
END:DAYLIGHT
BEGIN:STANDARD
TZOFFSETFROM:-0700
TZOFFSETTO:-0800
TZNAME:PST
DTSTART:20261101T090000
END:STANDARD
BEGIN:DAYLIGHT
TZOFFSETFROM:-0800
TZOFFSETTO:-0700
TZNAME:PDT
DTSTART:20270314T100000
END:DAYLIGHT
BEGIN:STANDARD
TZOFFSETFROM:-0700
TZOFFSETTO:-0800
TZNAME:PST
DTSTART:20271107T090000
END:STANDARD
END:VTIMEZONE
BEGIN:VTIMEZONE
TZID:UTC
BEGIN:STANDARD
TZOFFSETFROM:+0000
TZOFFSETTO:+0000
TZNAME:UTC
DTSTART:20250101T000000
END:STANDARD
END:VTIMEZONE
BEGIN:VEVENT
DTSTART;TZID=America/Los_Angeles:20260619T183000
DTEND;TZID=America/Los_Angeles:20260619T220000
DTSTAMP:20260423T043003
CREATED:20260422T103841Z
LAST-MODIFIED:20260422T103841Z
UID:10000074-1781893800-1781906400@www.woodlandweekender.com
SUMMARY:Friday Night Cruising
DESCRIPTION:Every Friday cruise old town woodland!! Show up have fun stop in to local businesses and see cool cars!!
URL:https://www.woodlandweekender.com/event/friday-night-cruising/2026-06-19/
CATEGORIES:Kids & Family
ATTACH;FMTTYPE=image/jpeg:https://www.woodlandweekender.com/wp-content/uploads/2026/04/IMG_1558.jpeg
END:VEVENT
BEGIN:VEVENT
DTSTART;TZID=UTC:20260621T010000
DTEND;TZID=UTC:20260621T040000
DTSTAMP:20260423T043004
CREATED:20260417T210857Z
LAST-MODIFIED:20260417T214137Z
UID:10000041-1782003600-1782014400@www.woodlandweekender.com
SUMMARY:Planters Days Cruise-In
DESCRIPTION:Kick off the weekend with a rolling parade of horsepower!\nWe’ll be cruising the streets of downtown Woodland and turning the town into a live showcase of classics\, customs\, hot rods\, and more. If it has a motor and wheels — bring it! Honk\, wave\, and soak in the summer vibes as we roll through town together.\nLineup begins at 6:00 PM at\n📍 1819 Heritage Street\, Woodland\, WA 98674\nCruise departs at 7:00 PM\nThis is a free event to cruise and show off your ride. Voluntary donations are welcome and will help raise money for Northwest Battle Buddies\, supporting veterans in need.\nCome out\, have fun\, and help us turn horsepower into hope!\nhttps://www.facebook.com/events/1568366244712971/
URL:https://www.woodlandweekender.com/event/planters-days-cruise-in-2/
LOCATION:1698 Heritage St Woodland\, Woodland\, WA\, United States
GEO:45.937521;-122.686548
END:VEVENT
BEGIN:VEVENT
DTSTART;TZID=UTC:20260626T170000
DTEND;TZID=UTC:20260628T110000
DTSTAMP:20260423T043004
CREATED:20260417T210858Z
LAST-MODIFIED:20260417T214137Z
UID:10000043-1782493200-1782644400@www.woodlandweekender.com
SUMMARY:Mojo Fest 2026
DESCRIPTION:Our goal for Mojo Fest is to cultivate a community rooted in acceptance\, spiritual growth\, and joy by providing a space filled with music\, art\, and nature. We are a community first\, music festival second.\nJust a short 30 minute drive from Portland on the Columbia River in Woodland\, WA–this 40 acre island offers stunning beauty\, beaches\, swimming\, and forests. A road was built to access the island 40 years ago and it has been used for various events ever since. Mojo Fest will showcase some of the finest musical acts in the jam\, funk\, indie\, and electronic scene! Our outdoor main stage will have music all day into the late night.\nA weekend pass grants you full music access Friday\, Saturday and Sunday–and includes camping. Vehicle passes are available for purchase on our ticket page\, as well as Day Passes (Day passes do not include camping). Check the festival instagram for this year’s lineup!\nMojo Fest is a pack-in\, pack-out festival – hosted from Friday 6/26/2026 (10am) to Sunday 6/28/2026 (4pm).\nVolunteers & Vendors please see our instagram/website for application details.\nhttps://www.facebook.com/events/924927159883082/
URL:https://www.woodlandweekender.com/event/mojo-fest-2026-2/
LOCATION:1108 Dike Rd SW\, Woodland\, WA\, United States
GEO:45.937521;-122.686548
END:VEVENT
BEGIN:VEVENT
DTSTART;TZID=America/Los_Angeles:20260626T183000
DTEND;TZID=America/Los_Angeles:20260626T220000
DTSTAMP:20260423T043004
CREATED:20260422T103841Z
LAST-MODIFIED:20260422T103841Z
UID:10000075-1782498600-1782511200@www.woodlandweekender.com
SUMMARY:Friday Night Cruising
DESCRIPTION:Every Friday cruise old town woodland!! Show up have fun stop in to local businesses and see cool cars!!
URL:https://www.woodlandweekender.com/event/friday-night-cruising/2026-06-26/
CATEGORIES:Kids & Family
ATTACH;FMTTYPE=image/jpeg:https://www.woodlandweekender.com/wp-content/uploads/2026/04/IMG_1558.jpeg
END:VEVENT
BEGIN:VEVENT
DTSTART;TZID=America/Los_Angeles:20260703T183000
DTEND;TZID=America/Los_Angeles:20260703T220000
DTSTAMP:20260423T043004
CREATED:20260422T103841Z
LAST-MODIFIED:20260422T103841Z
UID:10000076-1783103400-1783116000@www.woodlandweekender.com
SUMMARY:Friday Night Cruising
DESCRIPTION:Every Friday cruise old town woodland!! Show up have fun stop in to local businesses and see cool cars!!
URL:https://www.woodlandweekender.com/event/friday-night-cruising/2026-07-03/
CATEGORIES:Kids & Family
ATTACH;FMTTYPE=image/jpeg:https://www.woodlandweekender.com/wp-content/uploads/2026/04/IMG_1558.jpeg
END:VEVENT
BEGIN:VEVENT
DTSTART;TZID=America/Los_Angeles:20260710T183000
DTEND;TZID=America/Los_Angeles:20260710T220000
DTSTAMP:20260423T043004
CREATED:20260422T103841Z
LAST-MODIFIED:20260422T103841Z
UID:10000077-1783708200-1783720800@www.woodlandweekender.com
SUMMARY:Friday Night Cruising
DESCRIPTION:Every Friday cruise old town woodland!! Show up have fun stop in to local businesses and see cool cars!!
URL:https://www.woodlandweekender.com/event/friday-night-cruising/2026-07-10/
CATEGORIES:Kids & Family
ATTACH;FMTTYPE=image/jpeg:https://www.woodlandweekender.com/wp-content/uploads/2026/04/IMG_1558.jpeg
END:VEVENT
BEGIN:VEVENT
DTSTART;TZID=America/Los_Angeles:20260717T183000
DTEND;TZID=America/Los_Angeles:20260717T220000
DTSTAMP:20260423T043004
CREATED:20260422T103841Z
LAST-MODIFIED:20260422T103841Z
UID:10000078-1784313000-1784325600@www.woodlandweekender.com
SUMMARY:Friday Night Cruising
DESCRIPTION:Every Friday cruise old town woodland!! Show up have fun stop in to local businesses and see cool cars!!
URL:https://www.woodlandweekender.com/event/friday-night-cruising/2026-07-17/
CATEGORIES:Kids & Family
ATTACH;FMTTYPE=image/jpeg:https://www.woodlandweekender.com/wp-content/uploads/2026/04/IMG_1558.jpeg
END:VEVENT
BEGIN:VEVENT
DTSTART;TZID=America/Los_Angeles:20260724T183000
DTEND;TZID=America/Los_Angeles:20260724T220000
DTSTAMP:20260423T043004
CREATED:20260422T103841Z
LAST-MODIFIED:20260422T103841Z
UID:10000079-1784917800-1784930400@www.woodlandweekender.com
SUMMARY:Friday Night Cruising
DESCRIPTION:Every Friday cruise old town woodland!! Show up have fun stop in to local businesses and see cool cars!!
URL:https://www.woodlandweekender.com/event/friday-night-cruising/2026-07-24/
CATEGORIES:Kids & Family
ATTACH;FMTTYPE=image/jpeg:https://www.woodlandweekender.com/wp-content/uploads/2026/04/IMG_1558.jpeg
END:VEVENT
BEGIN:VEVENT
DTSTART;TZID=America/Los_Angeles:20260731T183000
DTEND;TZID=America/Los_Angeles:20260731T220000
DTSTAMP:20260423T043004
CREATED:20260422T103841Z
LAST-MODIFIED:20260422T103841Z
UID:10000080-1785522600-1785535200@www.woodlandweekender.com
SUMMARY:Friday Night Cruising
DESCRIPTION:Every Friday cruise old town woodland!! Show up have fun stop in to local businesses and see cool cars!!
URL:https://www.woodlandweekender.com/event/friday-night-cruising/2026-07-31/
CATEGORIES:Kids & Family
ATTACH;FMTTYPE=image/jpeg:https://www.woodlandweekender.com/wp-content/uploads/2026/04/IMG_1558.jpeg
END:VEVENT
BEGIN:VEVENT
DTSTART;TZID=America/Los_Angeles:20260807T183000
DTEND;TZID=America/Los_Angeles:20260807T220000
DTSTAMP:20260423T043004
CREATED:20260422T103841Z
LAST-MODIFIED:20260422T103841Z
UID:10000081-1786127400-1786140000@www.woodlandweekender.com
SUMMARY:Friday Night Cruising
DESCRIPTION:Every Friday cruise old town woodland!! Show up have fun stop in to local businesses and see cool cars!!
URL:https://www.woodlandweekender.com/event/friday-night-cruising/2026-08-07/
CATEGORIES:Kids & Family
ATTACH;FMTTYPE=image/jpeg:https://www.woodlandweekender.com/wp-content/uploads/2026/04/IMG_1558.jpeg
END:VEVENT
BEGIN:VEVENT
DTSTART;TZID=America/Los_Angeles:20260814T183000
DTEND;TZID=America/Los_Angeles:20260814T220000
DTSTAMP:20260423T043004
CREATED:20260422T103841Z
LAST-MODIFIED:20260422T103841Z
UID:10000082-1786732200-1786744800@www.woodlandweekender.com
SUMMARY:Friday Night Cruising
DESCRIPTION:Every Friday cruise old town woodland!! Show up have fun stop in to local businesses and see cool cars!!
URL:https://www.woodlandweekender.com/event/friday-night-cruising/2026-08-14/
CATEGORIES:Kids & Family
ATTACH;FMTTYPE=image/jpeg:https://www.woodlandweekender.com/wp-content/uploads/2026/04/IMG_1558.jpeg
END:VEVENT
BEGIN:VEVENT
DTSTART;TZID=America/Los_Angeles:20260821T183000
DTEND;TZID=America/Los_Angeles:20260821T220000
DTSTAMP:20260423T043004
CREATED:20260422T103841Z
LAST-MODIFIED:20260422T103841Z
UID:10000083-1787337000-1787349600@www.woodlandweekender.com
SUMMARY:Friday Night Cruising
DESCRIPTION:Every Friday cruise old town woodland!! Show up have fun stop in to local businesses and see cool cars!!
URL:https://www.woodlandweekender.com/event/friday-night-cruising/2026-08-21/
CATEGORIES:Kids & Family
ATTACH;FMTTYPE=image/jpeg:https://www.woodlandweekender.com/wp-content/uploads/2026/04/IMG_1558.jpeg
END:VEVENT
BEGIN:VEVENT
DTSTART;TZID=America/Los_Angeles:20260828T183000
DTEND;TZID=America/Los_Angeles:20260828T220000
DTSTAMP:20260423T043004
CREATED:20260422T103841Z
LAST-MODIFIED:20260422T103841Z
UID:10000084-1787941800-1787954400@www.woodlandweekender.com
SUMMARY:Friday Night Cruising
DESCRIPTION:Every Friday cruise old town woodland!! Show up have fun stop in to local businesses and see cool cars!!
URL:https://www.woodlandweekender.com/event/friday-night-cruising/2026-08-28/
CATEGORIES:Kids & Family
ATTACH;FMTTYPE=image/jpeg:https://www.woodlandweekender.com/wp-content/uploads/2026/04/IMG_1558.jpeg
END:VEVENT
BEGIN:VEVENT
DTSTART;TZID=America/Los_Angeles:20260904T183000
DTEND;TZID=America/Los_Angeles:20260904T220000
DTSTAMP:20260423T043004
CREATED:20260422T103841Z
LAST-MODIFIED:20260422T103841Z
UID:10000085-1788546600-1788559200@www.woodlandweekender.com
SUMMARY:Friday Night Cruising
DESCRIPTION:Every Friday cruise old town woodland!! Show up have fun stop in to local businesses and see cool cars!!
URL:https://www.woodlandweekender.com/event/friday-night-cruising/2026-09-04/
CATEGORIES:Kids & Family
ATTACH;FMTTYPE=image/jpeg:https://www.woodlandweekender.com/wp-content/uploads/2026/04/IMG_1558.jpeg
END:VEVENT
BEGIN:VEVENT
DTSTART;TZID=America/Los_Angeles:20260911T183000
DTEND;TZID=America/Los_Angeles:20260911T220000
DTSTAMP:20260423T043004
CREATED:20260422T103841Z
LAST-MODIFIED:20260422T103841Z
UID:10000086-1789151400-1789164000@www.woodlandweekender.com
SUMMARY:Friday Night Cruising
DESCRIPTION:Every Friday cruise old town woodland!! Show up have fun stop in to local businesses and see cool cars!!
URL:https://www.woodlandweekender.com/event/friday-night-cruising/2026-09-11/
CATEGORIES:Kids & Family
ATTACH;FMTTYPE=image/jpeg:https://www.woodlandweekender.com/wp-content/uploads/2026/04/IMG_1558.jpeg
END:VEVENT
BEGIN:VEVENT
DTSTART;TZID=America/Los_Angeles:20260918T183000
DTEND;TZID=America/Los_Angeles:20260918T220000
DTSTAMP:20260423T043004
CREATED:20260422T103841Z
LAST-MODIFIED:20260422T103841Z
UID:10000087-1789756200-1789768800@www.woodlandweekender.com
SUMMARY:Friday Night Cruising
DESCRIPTION:Every Friday cruise old town woodland!! Show up have fun stop in to local businesses and see cool cars!!
URL:https://www.woodlandweekender.com/event/friday-night-cruising/2026-09-18/
CATEGORIES:Kids & Family
ATTACH;FMTTYPE=image/jpeg:https://www.woodlandweekender.com/wp-content/uploads/2026/04/IMG_1558.jpeg
END:VEVENT
BEGIN:VEVENT
DTSTART;TZID=America/Los_Angeles:20260925T183000
DTEND;TZID=America/Los_Angeles:20260925T220000
DTSTAMP:20260423T043004
CREATED:20260422T103841Z
LAST-MODIFIED:20260422T103841Z
UID:10000088-1790361000-1790373600@www.woodlandweekender.com
SUMMARY:Friday Night Cruising
DESCRIPTION:Every Friday cruise old town woodland!! Show up have fun stop in to local businesses and see cool cars!!
URL:https://www.woodlandweekender.com/event/friday-night-cruising/2026-09-25/
CATEGORIES:Kids & Family
ATTACH;FMTTYPE=image/jpeg:https://www.woodlandweekender.com/wp-content/uploads/2026/04/IMG_1558.jpeg
END:VEVENT
BEGIN:VEVENT
DTSTART;TZID=America/Los_Angeles:20261002T183000
DTEND;TZID=America/Los_Angeles:20261002T220000
DTSTAMP:20260423T043004
CREATED:20260422T103841Z
LAST-MODIFIED:20260422T103841Z
UID:10000089-1790965800-1790978400@www.woodlandweekender.com
SUMMARY:Friday Night Cruising
DESCRIPTION:Every Friday cruise old town woodland!! Show up have fun stop in to local businesses and see cool cars!!
URL:https://www.woodlandweekender.com/event/friday-night-cruising/2026-10-02/
CATEGORIES:Kids & Family
ATTACH;FMTTYPE=image/jpeg:https://www.woodlandweekender.com/wp-content/uploads/2026/04/IMG_1558.jpeg
END:VEVENT
BEGIN:VEVENT
DTSTART;TZID=America/Los_Angeles:20261009T183000
DTEND;TZID=America/Los_Angeles:20261009T220000
DTSTAMP:20260423T043004
CREATED:20260422T103841Z
LAST-MODIFIED:20260422T103841Z
UID:10000090-1791570600-1791583200@www.woodlandweekender.com
SUMMARY:Friday Night Cruising
DESCRIPTION:Every Friday cruise old town woodland!! Show up have fun stop in to local businesses and see cool cars!!
URL:https://www.woodlandweekender.com/event/friday-night-cruising/2026-10-09/
CATEGORIES:Kids & Family
ATTACH;FMTTYPE=image/jpeg:https://www.woodlandweekender.com/wp-content/uploads/2026/04/IMG_1558.jpeg
END:VEVENT
BEGIN:VEVENT
DTSTART;TZID=America/Los_Angeles:20261016T183000
DTEND;TZID=America/Los_Angeles:20261016T220000
DTSTAMP:20260423T043004
CREATED:20260422T103841Z
LAST-MODIFIED:20260422T103841Z
UID:10000091-1792175400-1792188000@www.woodlandweekender.com
SUMMARY:Friday Night Cruising
DESCRIPTION:Every Friday cruise old town woodland!! Show up have fun stop in to local businesses and see cool cars!!
URL:https://www.woodlandweekender.com/event/friday-night-cruising/2026-10-16/
CATEGORIES:Kids & Family
ATTACH;FMTTYPE=image/jpeg:https://www.woodlandweekender.com/wp-content/uploads/2026/04/IMG_1558.jpeg
END:VEVENT
BEGIN:VEVENT
DTSTART;TZID=America/Los_Angeles:20261023T183000
DTEND;TZID=America/Los_Angeles:20261023T220000
DTSTAMP:20260423T043004
CREATED:20260422T103841Z
LAST-MODIFIED:20260422T103841Z
UID:10000092-1792780200-1792792800@www.woodlandweekender.com
SUMMARY:Friday Night Cruising
DESCRIPTION:Every Friday cruise old town woodland!! Show up have fun stop in to local businesses and see cool cars!!
URL:https://www.woodlandweekender.com/event/friday-night-cruising/2026-10-23/
CATEGORIES:Kids & Family
ATTACH;FMTTYPE=image/jpeg:https://www.woodlandweekender.com/wp-content/uploads/2026/04/IMG_1558.jpeg
END:VEVENT
BEGIN:VEVENT
DTSTART;TZID=America/Los_Angeles:20261030T183000
DTEND;TZID=America/Los_Angeles:20261030T220000
DTSTAMP:20260423T043004
CREATED:20260422T103841Z
LAST-MODIFIED:20260422T103841Z
UID:10000093-1793385000-1793397600@www.woodlandweekender.com
SUMMARY:Friday Night Cruising
DESCRIPTION:Every Friday cruise old town woodland!! Show up have fun stop in to local businesses and see cool cars!!
URL:https://www.woodlandweekender.com/event/friday-night-cruising/2026-10-30/
CATEGORIES:Kids & Family
ATTACH;FMTTYPE=image/jpeg:https://www.woodlandweekender.com/wp-content/uploads/2026/04/IMG_1558.jpeg
END:VEVENT
BEGIN:VEVENT
DTSTART;TZID=America/Los_Angeles:20261106T183000
DTEND;TZID=America/Los_Angeles:20261106T220000
DTSTAMP:20260423T043004
CREATED:20260422T103841Z
LAST-MODIFIED:20260422T103841Z
UID:10000094-1793989800-1794002400@www.woodlandweekender.com
SUMMARY:Friday Night Cruising
DESCRIPTION:Every Friday cruise old town woodland!! Show up have fun stop in to local businesses and see cool cars!!
URL:https://www.woodlandweekender.com/event/friday-night-cruising/2026-11-06/
CATEGORIES:Kids & Family
ATTACH;FMTTYPE=image/jpeg:https://www.woodlandweekender.com/wp-content/uploads/2026/04/IMG_1558.jpeg
END:VEVENT
BEGIN:VEVENT
DTSTART;TZID=America/Los_Angeles:20261113T183000
DTEND;TZID=America/Los_Angeles:20261113T220000
DTSTAMP:20260423T043004
CREATED:20260422T103841Z
LAST-MODIFIED:20260422T103841Z
UID:10000095-1794594600-1794607200@www.woodlandweekender.com
SUMMARY:Friday Night Cruising
DESCRIPTION:Every Friday cruise old town woodland!! Show up have fun stop in to local businesses and see cool cars!!
URL:https://www.woodlandweekender.com/event/friday-night-cruising/2026-11-13/
CATEGORIES:Kids & Family
ATTACH;FMTTYPE=image/jpeg:https://www.woodlandweekender.com/wp-content/uploads/2026/04/IMG_1558.jpeg
END:VEVENT
BEGIN:VEVENT
DTSTART;TZID=America/Los_Angeles:20261120T183000
DTEND;TZID=America/Los_Angeles:20261120T220000
DTSTAMP:20260423T043004
CREATED:20260422T103841Z
LAST-MODIFIED:20260422T103841Z
UID:10000096-1795199400-1795212000@www.woodlandweekender.com
SUMMARY:Friday Night Cruising
DESCRIPTION:Every Friday cruise old town woodland!! Show up have fun stop in to local businesses and see cool cars!!
URL:https://www.woodlandweekender.com/event/friday-night-cruising/2026-11-20/
CATEGORIES:Kids & Family
ATTACH;FMTTYPE=image/jpeg:https://www.woodlandweekender.com/wp-content/uploads/2026/04/IMG_1558.jpeg
END:VEVENT
BEGIN:VEVENT
DTSTART;TZID=America/Los_Angeles:20261127T183000
DTEND;TZID=America/Los_Angeles:20261127T220000
DTSTAMP:20260423T043004
CREATED:20260422T103841Z
LAST-MODIFIED:20260422T103841Z
UID:10000097-1795804200-1795816800@www.woodlandweekender.com
SUMMARY:Friday Night Cruising
DESCRIPTION:Every Friday cruise old town woodland!! Show up have fun stop in to local businesses and see cool cars!!
URL:https://www.woodlandweekender.com/event/friday-night-cruising/2026-11-27/
CATEGORIES:Kids & Family
ATTACH;FMTTYPE=image/jpeg:https://www.woodlandweekender.com/wp-content/uploads/2026/04/IMG_1558.jpeg
END:VEVENT
BEGIN:VEVENT
DTSTART;TZID=America/Los_Angeles:20261204T183000
DTEND;TZID=America/Los_Angeles:20261204T220000
DTSTAMP:20260423T043004
CREATED:20260422T103841Z
LAST-MODIFIED:20260422T103841Z
UID:10000098-1796409000-1796421600@www.woodlandweekender.com
SUMMARY:Friday Night Cruising
DESCRIPTION:Every Friday cruise old town woodland!! Show up have fun stop in to local businesses and see cool cars!!
URL:https://www.woodlandweekender.com/event/friday-night-cruising/2026-12-04/
CATEGORIES:Kids & Family
ATTACH;FMTTYPE=image/jpeg:https://www.woodlandweekender.com/wp-content/uploads/2026/04/IMG_1558.jpeg
END:VEVENT
BEGIN:VEVENT
DTSTART;TZID=America/Los_Angeles:20261211T183000
DTEND;TZID=America/Los_Angeles:20261211T220000
DTSTAMP:20260423T043004
CREATED:20260422T103841Z
LAST-MODIFIED:20260422T103841Z
UID:10000099-1797013800-1797026400@www.woodlandweekender.com
SUMMARY:Friday Night Cruising
DESCRIPTION:Every Friday cruise old town woodland!! Show up have fun stop in to local businesses and see cool cars!!
URL:https://www.woodlandweekender.com/event/friday-night-cruising/2026-12-11/
CATEGORIES:Kids & Family
ATTACH;FMTTYPE=image/jpeg:https://www.woodlandweekender.com/wp-content/uploads/2026/04/IMG_1558.jpeg
END:VEVENT
BEGIN:VEVENT
DTSTART;TZID=America/Los_Angeles:20261218T183000
DTEND;TZID=America/Los_Angeles:20261218T220000
DTSTAMP:20260423T043004
CREATED:20260422T103841Z
LAST-MODIFIED:20260422T103841Z
UID:10000100-1797618600-1797631200@www.woodlandweekender.com
SUMMARY:Friday Night Cruising
DESCRIPTION:Every Friday cruise old town woodland!! Show up have fun stop in to local businesses and see cool cars!!
URL:https://www.woodlandweekender.com/event/friday-night-cruising/2026-12-18/
CATEGORIES:Kids & Family
ATTACH;FMTTYPE=image/jpeg:https://www.woodlandweekender.com/wp-content/uploads/2026/04/IMG_1558.jpeg
END:VEVENT
BEGIN:VEVENT
DTSTART;TZID=America/Los_Angeles:20261225T183000
DTEND;TZID=America/Los_Angeles:20261225T220000
DTSTAMP:20260423T043004
CREATED:20260422T103841Z
LAST-MODIFIED:20260422T103841Z
UID:10000101-1798223400-1798236000@www.woodlandweekender.com
SUMMARY:Friday Night Cruising
DESCRIPTION:Every Friday cruise old town woodland!! Show up have fun stop in to local businesses and see cool cars!!
URL:https://www.woodlandweekender.com/event/friday-night-cruising/2026-12-25/
CATEGORIES:Kids & Family
ATTACH;FMTTYPE=image/jpeg:https://www.woodlandweekender.com/wp-content/uploads/2026/04/IMG_1558.jpeg
END:VEVENT
END:VCALENDAR