BEGIN:VCALENDAR
VERSION:2.0
PRODID:-//Woodland Weekender - ECPv6.15.20//NONSGML v1.0//EN
CALSCALE:GREGORIAN
METHOD:PUBLISH
X-WR-CALNAME:Woodland Weekender
X-ORIGINAL-URL:https://www.woodlandweekender.com
X-WR-CALDESC:Events for Woodland Weekender
REFRESH-INTERVAL;VALUE=DURATION:PT1H
X-Robots-Tag:noindex
X-PUBLISHED-TTL:PT1H
BEGIN:VTIMEZONE
TZID:America/Los_Angeles
BEGIN:DAYLIGHT
TZOFFSETFROM:-0800
TZOFFSETTO:-0700
TZNAME:PDT
DTSTART:20290311T100000
END:DAYLIGHT
BEGIN:STANDARD
TZOFFSETFROM:-0700
TZOFFSETTO:-0800
TZNAME:PST
DTSTART:20291104T090000
END:STANDARD
BEGIN:DAYLIGHT
TZOFFSETFROM:-0800
TZOFFSETTO:-0700
TZNAME:PDT
DTSTART:20300310T100000
END:DAYLIGHT
BEGIN:STANDARD
TZOFFSETFROM:-0700
TZOFFSETTO:-0800
TZNAME:PST
DTSTART:20301103T090000
END:STANDARD
BEGIN:DAYLIGHT
TZOFFSETFROM:-0800
TZOFFSETTO:-0700
TZNAME:PDT
DTSTART:20310309T100000
END:DAYLIGHT
BEGIN:STANDARD
TZOFFSETFROM:-0700
TZOFFSETTO:-0800
TZNAME:PST
DTSTART:20311102T090000
END:STANDARD
BEGIN:DAYLIGHT
TZOFFSETFROM:-0800
TZOFFSETTO:-0700
TZNAME:PDT
DTSTART:20320314T100000
END:DAYLIGHT
BEGIN:STANDARD
TZOFFSETFROM:-0700
TZOFFSETTO:-0800
TZNAME:PST
DTSTART:20321107T090000
END:STANDARD
END:VTIMEZONE
BEGIN:VEVENT
DTSTART;TZID=America/Los_Angeles:20300816T183000
DTEND;TZID=America/Los_Angeles:20300816T220000
DTSTAMP:20260423T090514
CREATED:20260422T103841Z
LAST-MODIFIED:20260422T103841Z
UID:10000291-1913135400-1913148000@www.woodlandweekender.com
SUMMARY:Friday Night Cruising
DESCRIPTION:Every Friday cruise old town woodland!! Show up have fun stop in to local businesses and see cool cars!!
URL:https://www.woodlandweekender.com/event/friday-night-cruising/2030-08-16/
CATEGORIES:Kids & Family
ATTACH;FMTTYPE=image/jpeg:https://www.woodlandweekender.com/wp-content/uploads/2026/04/IMG_1558.jpeg
END:VEVENT
BEGIN:VEVENT
DTSTART;TZID=America/Los_Angeles:20300823T183000
DTEND;TZID=America/Los_Angeles:20300823T220000
DTSTAMP:20260423T090514
CREATED:20260422T103841Z
LAST-MODIFIED:20260422T103841Z
UID:10000292-1913740200-1913752800@www.woodlandweekender.com
SUMMARY:Friday Night Cruising
DESCRIPTION:Every Friday cruise old town woodland!! Show up have fun stop in to local businesses and see cool cars!!
URL:https://www.woodlandweekender.com/event/friday-night-cruising/2030-08-23/
CATEGORIES:Kids & Family
ATTACH;FMTTYPE=image/jpeg:https://www.woodlandweekender.com/wp-content/uploads/2026/04/IMG_1558.jpeg
END:VEVENT
BEGIN:VEVENT
DTSTART;TZID=America/Los_Angeles:20300830T183000
DTEND;TZID=America/Los_Angeles:20300830T220000
DTSTAMP:20260423T090514
CREATED:20260422T103841Z
LAST-MODIFIED:20260422T103841Z
UID:10000293-1914345000-1914357600@www.woodlandweekender.com
SUMMARY:Friday Night Cruising
DESCRIPTION:Every Friday cruise old town woodland!! Show up have fun stop in to local businesses and see cool cars!!
URL:https://www.woodlandweekender.com/event/friday-night-cruising/2030-08-30/
CATEGORIES:Kids & Family
ATTACH;FMTTYPE=image/jpeg:https://www.woodlandweekender.com/wp-content/uploads/2026/04/IMG_1558.jpeg
END:VEVENT
BEGIN:VEVENT
DTSTART;TZID=America/Los_Angeles:20300906T183000
DTEND;TZID=America/Los_Angeles:20300906T220000
DTSTAMP:20260423T090514
CREATED:20260422T103841Z
LAST-MODIFIED:20260422T103841Z
UID:10000294-1914949800-1914962400@www.woodlandweekender.com
SUMMARY:Friday Night Cruising
DESCRIPTION:Every Friday cruise old town woodland!! Show up have fun stop in to local businesses and see cool cars!!
URL:https://www.woodlandweekender.com/event/friday-night-cruising/2030-09-06/
CATEGORIES:Kids & Family
ATTACH;FMTTYPE=image/jpeg:https://www.woodlandweekender.com/wp-content/uploads/2026/04/IMG_1558.jpeg
END:VEVENT
BEGIN:VEVENT
DTSTART;TZID=America/Los_Angeles:20300913T183000
DTEND;TZID=America/Los_Angeles:20300913T220000
DTSTAMP:20260423T090514
CREATED:20260422T103841Z
LAST-MODIFIED:20260422T103841Z
UID:10000295-1915554600-1915567200@www.woodlandweekender.com
SUMMARY:Friday Night Cruising
DESCRIPTION:Every Friday cruise old town woodland!! Show up have fun stop in to local businesses and see cool cars!!
URL:https://www.woodlandweekender.com/event/friday-night-cruising/2030-09-13/
CATEGORIES:Kids & Family
ATTACH;FMTTYPE=image/jpeg:https://www.woodlandweekender.com/wp-content/uploads/2026/04/IMG_1558.jpeg
END:VEVENT
BEGIN:VEVENT
DTSTART;TZID=America/Los_Angeles:20300920T183000
DTEND;TZID=America/Los_Angeles:20300920T220000
DTSTAMP:20260423T090514
CREATED:20260422T103841Z
LAST-MODIFIED:20260422T103841Z
UID:10000296-1916159400-1916172000@www.woodlandweekender.com
SUMMARY:Friday Night Cruising
DESCRIPTION:Every Friday cruise old town woodland!! Show up have fun stop in to local businesses and see cool cars!!
URL:https://www.woodlandweekender.com/event/friday-night-cruising/2030-09-20/
CATEGORIES:Kids & Family
ATTACH;FMTTYPE=image/jpeg:https://www.woodlandweekender.com/wp-content/uploads/2026/04/IMG_1558.jpeg
END:VEVENT
BEGIN:VEVENT
DTSTART;TZID=America/Los_Angeles:20300927T183000
DTEND;TZID=America/Los_Angeles:20300927T220000
DTSTAMP:20260423T090514
CREATED:20260422T103841Z
LAST-MODIFIED:20260422T103841Z
UID:10000297-1916764200-1916776800@www.woodlandweekender.com
SUMMARY:Friday Night Cruising
DESCRIPTION:Every Friday cruise old town woodland!! Show up have fun stop in to local businesses and see cool cars!!
URL:https://www.woodlandweekender.com/event/friday-night-cruising/2030-09-27/
CATEGORIES:Kids & Family
ATTACH;FMTTYPE=image/jpeg:https://www.woodlandweekender.com/wp-content/uploads/2026/04/IMG_1558.jpeg
END:VEVENT
BEGIN:VEVENT
DTSTART;TZID=America/Los_Angeles:20301004T183000
DTEND;TZID=America/Los_Angeles:20301004T220000
DTSTAMP:20260423T090514
CREATED:20260422T103841Z
LAST-MODIFIED:20260422T103841Z
UID:10000298-1917369000-1917381600@www.woodlandweekender.com
SUMMARY:Friday Night Cruising
DESCRIPTION:Every Friday cruise old town woodland!! Show up have fun stop in to local businesses and see cool cars!!
URL:https://www.woodlandweekender.com/event/friday-night-cruising/2030-10-04/
CATEGORIES:Kids & Family
ATTACH;FMTTYPE=image/jpeg:https://www.woodlandweekender.com/wp-content/uploads/2026/04/IMG_1558.jpeg
END:VEVENT
BEGIN:VEVENT
DTSTART;TZID=America/Los_Angeles:20301011T183000
DTEND;TZID=America/Los_Angeles:20301011T220000
DTSTAMP:20260423T090514
CREATED:20260422T103841Z
LAST-MODIFIED:20260422T103841Z
UID:10000299-1917973800-1917986400@www.woodlandweekender.com
SUMMARY:Friday Night Cruising
DESCRIPTION:Every Friday cruise old town woodland!! Show up have fun stop in to local businesses and see cool cars!!
URL:https://www.woodlandweekender.com/event/friday-night-cruising/2030-10-11/
CATEGORIES:Kids & Family
ATTACH;FMTTYPE=image/jpeg:https://www.woodlandweekender.com/wp-content/uploads/2026/04/IMG_1558.jpeg
END:VEVENT
BEGIN:VEVENT
DTSTART;TZID=America/Los_Angeles:20301018T183000
DTEND;TZID=America/Los_Angeles:20301018T220000
DTSTAMP:20260423T090514
CREATED:20260422T103841Z
LAST-MODIFIED:20260422T103841Z
UID:10000300-1918578600-1918591200@www.woodlandweekender.com
SUMMARY:Friday Night Cruising
DESCRIPTION:Every Friday cruise old town woodland!! Show up have fun stop in to local businesses and see cool cars!!
URL:https://www.woodlandweekender.com/event/friday-night-cruising/2030-10-18/
CATEGORIES:Kids & Family
ATTACH;FMTTYPE=image/jpeg:https://www.woodlandweekender.com/wp-content/uploads/2026/04/IMG_1558.jpeg
END:VEVENT
BEGIN:VEVENT
DTSTART;TZID=America/Los_Angeles:20301025T183000
DTEND;TZID=America/Los_Angeles:20301025T220000
DTSTAMP:20260423T090514
CREATED:20260422T103841Z
LAST-MODIFIED:20260422T103841Z
UID:10000301-1919183400-1919196000@www.woodlandweekender.com
SUMMARY:Friday Night Cruising
DESCRIPTION:Every Friday cruise old town woodland!! Show up have fun stop in to local businesses and see cool cars!!
URL:https://www.woodlandweekender.com/event/friday-night-cruising/2030-10-25/
CATEGORIES:Kids & Family
ATTACH;FMTTYPE=image/jpeg:https://www.woodlandweekender.com/wp-content/uploads/2026/04/IMG_1558.jpeg
END:VEVENT
BEGIN:VEVENT
DTSTART;TZID=America/Los_Angeles:20301101T183000
DTEND;TZID=America/Los_Angeles:20301101T220000
DTSTAMP:20260423T090514
CREATED:20260422T103841Z
LAST-MODIFIED:20260422T103841Z
UID:10000302-1919788200-1919800800@www.woodlandweekender.com
SUMMARY:Friday Night Cruising
DESCRIPTION:Every Friday cruise old town woodland!! Show up have fun stop in to local businesses and see cool cars!!
URL:https://www.woodlandweekender.com/event/friday-night-cruising/2030-11-01/
CATEGORIES:Kids & Family
ATTACH;FMTTYPE=image/jpeg:https://www.woodlandweekender.com/wp-content/uploads/2026/04/IMG_1558.jpeg
END:VEVENT
BEGIN:VEVENT
DTSTART;TZID=America/Los_Angeles:20301108T183000
DTEND;TZID=America/Los_Angeles:20301108T220000
DTSTAMP:20260423T090514
CREATED:20260422T103841Z
LAST-MODIFIED:20260422T103841Z
UID:10000303-1920393000-1920405600@www.woodlandweekender.com
SUMMARY:Friday Night Cruising
DESCRIPTION:Every Friday cruise old town woodland!! Show up have fun stop in to local businesses and see cool cars!!
URL:https://www.woodlandweekender.com/event/friday-night-cruising/2030-11-08/
CATEGORIES:Kids & Family
ATTACH;FMTTYPE=image/jpeg:https://www.woodlandweekender.com/wp-content/uploads/2026/04/IMG_1558.jpeg
END:VEVENT
BEGIN:VEVENT
DTSTART;TZID=America/Los_Angeles:20301115T183000
DTEND;TZID=America/Los_Angeles:20301115T220000
DTSTAMP:20260423T090514
CREATED:20260422T103841Z
LAST-MODIFIED:20260422T103841Z
UID:10000304-1920997800-1921010400@www.woodlandweekender.com
SUMMARY:Friday Night Cruising
DESCRIPTION:Every Friday cruise old town woodland!! Show up have fun stop in to local businesses and see cool cars!!
URL:https://www.woodlandweekender.com/event/friday-night-cruising/2030-11-15/
CATEGORIES:Kids & Family
ATTACH;FMTTYPE=image/jpeg:https://www.woodlandweekender.com/wp-content/uploads/2026/04/IMG_1558.jpeg
END:VEVENT
BEGIN:VEVENT
DTSTART;TZID=America/Los_Angeles:20301122T183000
DTEND;TZID=America/Los_Angeles:20301122T220000
DTSTAMP:20260423T090514
CREATED:20260422T103841Z
LAST-MODIFIED:20260422T103841Z
UID:10000305-1921602600-1921615200@www.woodlandweekender.com
SUMMARY:Friday Night Cruising
DESCRIPTION:Every Friday cruise old town woodland!! Show up have fun stop in to local businesses and see cool cars!!
URL:https://www.woodlandweekender.com/event/friday-night-cruising/2030-11-22/
CATEGORIES:Kids & Family
ATTACH;FMTTYPE=image/jpeg:https://www.woodlandweekender.com/wp-content/uploads/2026/04/IMG_1558.jpeg
END:VEVENT
BEGIN:VEVENT
DTSTART;TZID=America/Los_Angeles:20301129T183000
DTEND;TZID=America/Los_Angeles:20301129T220000
DTSTAMP:20260423T090514
CREATED:20260422T103841Z
LAST-MODIFIED:20260422T103841Z
UID:10000306-1922207400-1922220000@www.woodlandweekender.com
SUMMARY:Friday Night Cruising
DESCRIPTION:Every Friday cruise old town woodland!! Show up have fun stop in to local businesses and see cool cars!!
URL:https://www.woodlandweekender.com/event/friday-night-cruising/2030-11-29/
CATEGORIES:Kids & Family
ATTACH;FMTTYPE=image/jpeg:https://www.woodlandweekender.com/wp-content/uploads/2026/04/IMG_1558.jpeg
END:VEVENT
BEGIN:VEVENT
DTSTART;TZID=America/Los_Angeles:20301206T183000
DTEND;TZID=America/Los_Angeles:20301206T220000
DTSTAMP:20260423T090514
CREATED:20260422T103841Z
LAST-MODIFIED:20260422T103841Z
UID:10000307-1922812200-1922824800@www.woodlandweekender.com
SUMMARY:Friday Night Cruising
DESCRIPTION:Every Friday cruise old town woodland!! Show up have fun stop in to local businesses and see cool cars!!
URL:https://www.woodlandweekender.com/event/friday-night-cruising/2030-12-06/
CATEGORIES:Kids & Family
ATTACH;FMTTYPE=image/jpeg:https://www.woodlandweekender.com/wp-content/uploads/2026/04/IMG_1558.jpeg
END:VEVENT
BEGIN:VEVENT
DTSTART;TZID=America/Los_Angeles:20301213T183000
DTEND;TZID=America/Los_Angeles:20301213T220000
DTSTAMP:20260423T090514
CREATED:20260422T103841Z
LAST-MODIFIED:20260422T103841Z
UID:10000308-1923417000-1923429600@www.woodlandweekender.com
SUMMARY:Friday Night Cruising
DESCRIPTION:Every Friday cruise old town woodland!! Show up have fun stop in to local businesses and see cool cars!!
URL:https://www.woodlandweekender.com/event/friday-night-cruising/2030-12-13/
CATEGORIES:Kids & Family
ATTACH;FMTTYPE=image/jpeg:https://www.woodlandweekender.com/wp-content/uploads/2026/04/IMG_1558.jpeg
END:VEVENT
BEGIN:VEVENT
DTSTART;TZID=America/Los_Angeles:20301220T183000
DTEND;TZID=America/Los_Angeles:20301220T220000
DTSTAMP:20260423T090514
CREATED:20260422T103841Z
LAST-MODIFIED:20260422T103841Z
UID:10000309-1924021800-1924034400@www.woodlandweekender.com
SUMMARY:Friday Night Cruising
DESCRIPTION:Every Friday cruise old town woodland!! Show up have fun stop in to local businesses and see cool cars!!
URL:https://www.woodlandweekender.com/event/friday-night-cruising/2030-12-20/
CATEGORIES:Kids & Family
ATTACH;FMTTYPE=image/jpeg:https://www.woodlandweekender.com/wp-content/uploads/2026/04/IMG_1558.jpeg
END:VEVENT
BEGIN:VEVENT
DTSTART;TZID=America/Los_Angeles:20301227T183000
DTEND;TZID=America/Los_Angeles:20301227T220000
DTSTAMP:20260423T090514
CREATED:20260422T103841Z
LAST-MODIFIED:20260422T103841Z
UID:10000310-1924626600-1924639200@www.woodlandweekender.com
SUMMARY:Friday Night Cruising
DESCRIPTION:Every Friday cruise old town woodland!! Show up have fun stop in to local businesses and see cool cars!!
URL:https://www.woodlandweekender.com/event/friday-night-cruising/2030-12-27/
CATEGORIES:Kids & Family
ATTACH;FMTTYPE=image/jpeg:https://www.woodlandweekender.com/wp-content/uploads/2026/04/IMG_1558.jpeg
END:VEVENT
BEGIN:VEVENT
DTSTART;TZID=America/Los_Angeles:20310103T183000
DTEND;TZID=America/Los_Angeles:20310103T220000
DTSTAMP:20260423T090514
CREATED:20260422T103841Z
LAST-MODIFIED:20260422T103841Z
UID:10000311-1925231400-1925244000@www.woodlandweekender.com
SUMMARY:Friday Night Cruising
DESCRIPTION:Every Friday cruise old town woodland!! Show up have fun stop in to local businesses and see cool cars!!
URL:https://www.woodlandweekender.com/event/friday-night-cruising/2031-01-03/
CATEGORIES:Kids & Family
ATTACH;FMTTYPE=image/jpeg:https://www.woodlandweekender.com/wp-content/uploads/2026/04/IMG_1558.jpeg
END:VEVENT
BEGIN:VEVENT
DTSTART;TZID=America/Los_Angeles:20310110T183000
DTEND;TZID=America/Los_Angeles:20310110T220000
DTSTAMP:20260423T090514
CREATED:20260422T103841Z
LAST-MODIFIED:20260422T103841Z
UID:10000312-1925836200-1925848800@www.woodlandweekender.com
SUMMARY:Friday Night Cruising
DESCRIPTION:Every Friday cruise old town woodland!! Show up have fun stop in to local businesses and see cool cars!!
URL:https://www.woodlandweekender.com/event/friday-night-cruising/2031-01-10/
CATEGORIES:Kids & Family
ATTACH;FMTTYPE=image/jpeg:https://www.woodlandweekender.com/wp-content/uploads/2026/04/IMG_1558.jpeg
END:VEVENT
BEGIN:VEVENT
DTSTART;TZID=America/Los_Angeles:20310117T183000
DTEND;TZID=America/Los_Angeles:20310117T220000
DTSTAMP:20260423T090514
CREATED:20260422T103841Z
LAST-MODIFIED:20260422T103841Z
UID:10000313-1926441000-1926453600@www.woodlandweekender.com
SUMMARY:Friday Night Cruising
DESCRIPTION:Every Friday cruise old town woodland!! Show up have fun stop in to local businesses and see cool cars!!
URL:https://www.woodlandweekender.com/event/friday-night-cruising/2031-01-17/
CATEGORIES:Kids & Family
ATTACH;FMTTYPE=image/jpeg:https://www.woodlandweekender.com/wp-content/uploads/2026/04/IMG_1558.jpeg
END:VEVENT
BEGIN:VEVENT
DTSTART;TZID=America/Los_Angeles:20310124T183000
DTEND;TZID=America/Los_Angeles:20310124T220000
DTSTAMP:20260423T090514
CREATED:20260422T103841Z
LAST-MODIFIED:20260422T103841Z
UID:10000314-1927045800-1927058400@www.woodlandweekender.com
SUMMARY:Friday Night Cruising
DESCRIPTION:Every Friday cruise old town woodland!! Show up have fun stop in to local businesses and see cool cars!!
URL:https://www.woodlandweekender.com/event/friday-night-cruising/2031-01-24/
CATEGORIES:Kids & Family
ATTACH;FMTTYPE=image/jpeg:https://www.woodlandweekender.com/wp-content/uploads/2026/04/IMG_1558.jpeg
END:VEVENT
BEGIN:VEVENT
DTSTART;TZID=America/Los_Angeles:20310131T183000
DTEND;TZID=America/Los_Angeles:20310131T220000
DTSTAMP:20260423T090514
CREATED:20260422T103841Z
LAST-MODIFIED:20260422T103841Z
UID:10000315-1927650600-1927663200@www.woodlandweekender.com
SUMMARY:Friday Night Cruising
DESCRIPTION:Every Friday cruise old town woodland!! Show up have fun stop in to local businesses and see cool cars!!
URL:https://www.woodlandweekender.com/event/friday-night-cruising/2031-01-31/
CATEGORIES:Kids & Family
ATTACH;FMTTYPE=image/jpeg:https://www.woodlandweekender.com/wp-content/uploads/2026/04/IMG_1558.jpeg
END:VEVENT
BEGIN:VEVENT
DTSTART;TZID=America/Los_Angeles:20310207T183000
DTEND;TZID=America/Los_Angeles:20310207T220000
DTSTAMP:20260423T090514
CREATED:20260422T103841Z
LAST-MODIFIED:20260422T103841Z
UID:10000316-1928255400-1928268000@www.woodlandweekender.com
SUMMARY:Friday Night Cruising
DESCRIPTION:Every Friday cruise old town woodland!! Show up have fun stop in to local businesses and see cool cars!!
URL:https://www.woodlandweekender.com/event/friday-night-cruising/2031-02-07/
CATEGORIES:Kids & Family
ATTACH;FMTTYPE=image/jpeg:https://www.woodlandweekender.com/wp-content/uploads/2026/04/IMG_1558.jpeg
END:VEVENT
BEGIN:VEVENT
DTSTART;TZID=America/Los_Angeles:20310214T183000
DTEND;TZID=America/Los_Angeles:20310214T220000
DTSTAMP:20260423T090514
CREATED:20260422T103841Z
LAST-MODIFIED:20260422T103841Z
UID:10000317-1928860200-1928872800@www.woodlandweekender.com
SUMMARY:Friday Night Cruising
DESCRIPTION:Every Friday cruise old town woodland!! Show up have fun stop in to local businesses and see cool cars!!
URL:https://www.woodlandweekender.com/event/friday-night-cruising/2031-02-14/
CATEGORIES:Kids & Family
ATTACH;FMTTYPE=image/jpeg:https://www.woodlandweekender.com/wp-content/uploads/2026/04/IMG_1558.jpeg
END:VEVENT
BEGIN:VEVENT
DTSTART;TZID=America/Los_Angeles:20310221T183000
DTEND;TZID=America/Los_Angeles:20310221T220000
DTSTAMP:20260423T090514
CREATED:20260422T103841Z
LAST-MODIFIED:20260422T103841Z
UID:10000318-1929465000-1929477600@www.woodlandweekender.com
SUMMARY:Friday Night Cruising
DESCRIPTION:Every Friday cruise old town woodland!! Show up have fun stop in to local businesses and see cool cars!!
URL:https://www.woodlandweekender.com/event/friday-night-cruising/2031-02-21/
CATEGORIES:Kids & Family
ATTACH;FMTTYPE=image/jpeg:https://www.woodlandweekender.com/wp-content/uploads/2026/04/IMG_1558.jpeg
END:VEVENT
BEGIN:VEVENT
DTSTART;TZID=America/Los_Angeles:20310228T183000
DTEND;TZID=America/Los_Angeles:20310228T220000
DTSTAMP:20260423T090514
CREATED:20260422T103841Z
LAST-MODIFIED:20260422T103841Z
UID:10000319-1930069800-1930082400@www.woodlandweekender.com
SUMMARY:Friday Night Cruising
DESCRIPTION:Every Friday cruise old town woodland!! Show up have fun stop in to local businesses and see cool cars!!
URL:https://www.woodlandweekender.com/event/friday-night-cruising/2031-02-28/
CATEGORIES:Kids & Family
ATTACH;FMTTYPE=image/jpeg:https://www.woodlandweekender.com/wp-content/uploads/2026/04/IMG_1558.jpeg
END:VEVENT
BEGIN:VEVENT
DTSTART;TZID=America/Los_Angeles:20310307T183000
DTEND;TZID=America/Los_Angeles:20310307T220000
DTSTAMP:20260423T090514
CREATED:20260422T103841Z
LAST-MODIFIED:20260422T103841Z
UID:10000320-1930674600-1930687200@www.woodlandweekender.com
SUMMARY:Friday Night Cruising
DESCRIPTION:Every Friday cruise old town woodland!! Show up have fun stop in to local businesses and see cool cars!!
URL:https://www.woodlandweekender.com/event/friday-night-cruising/2031-03-07/
CATEGORIES:Kids & Family
ATTACH;FMTTYPE=image/jpeg:https://www.woodlandweekender.com/wp-content/uploads/2026/04/IMG_1558.jpeg
END:VEVENT
END:VCALENDAR