BEGIN:VCALENDAR
VERSION:2.0
PRODID:-//Woodland Weekender - ECPv6.15.20//NONSGML v1.0//EN
CALSCALE:GREGORIAN
METHOD:PUBLISH
X-ORIGINAL-URL:https://www.woodlandweekender.com
X-WR-CALDESC:Events for Woodland Weekender
REFRESH-INTERVAL;VALUE=DURATION:PT1H
X-Robots-Tag:noindex
X-PUBLISHED-TTL:PT1H
BEGIN:VTIMEZONE
TZID:UTC
BEGIN:STANDARD
TZOFFSETFROM:+0000
TZOFFSETTO:+0000
TZNAME:UTC
DTSTART:20250101T000000
END:STANDARD
END:VTIMEZONE
BEGIN:VEVENT
DTSTART;TZID=UTC:20260509T170000
DTEND;TZID=UTC:20260509T230000
DTSTAMP:20260421T011647
CREATED:20260417T221227Z
LAST-MODIFIED:20260419T144924Z
UID:10000056-1778346000-1778367600@www.woodlandweekender.com
SUMMARY:Spring Market
DESCRIPTION:Join us for the Trap Teams third annual Spring Market!\nThe Spring Market helps raise funds for our local Woodland Youth Sports Trap Team members that are going to shoot on the national stage in June down in San Antonio\, TX!\nWe will have numerous vendors to shop from and we hope to see you all there!
URL:https://www.woodlandweekender.com/event/spring-market-3/
LOCATION:Woodland High School
ATTACH;FMTTYPE=image/jpeg:https://www.woodlandweekender.com/wp-content/uploads/2026/04/spring-market.jpg
END:VEVENT
END:VCALENDAR